BEGIN:VCALENDAR
VERSION:2.0
PRODID:-//jEvents 2.0 for Joomla//EN
CALSCALE:GREGORIAN
METHOD:PUBLISH
BEGIN:VEVENT
UID:5fd686a3c4c160086d9777a2ec5cb9df
CATEGORIES:18. Bezirk
CREATED:20220627T115356
SUMMARY:Babyplausch
LOCATION:Spielringel\, Mollgasse 11-13
DESCRIPTION:BabyplauschAustauschgruppe für Babymamas und BabypapasAls Mama hat man oft 
 das Bedürfnis sich mit anderen Mamas auszutauschen, das könnt ihr ganz unge
 zwungen Freitag vormittags im Spielringel bei Tee und Kuchen. Für die Babys
  gibt es allerlei zu entdecken!\nNächste Termine:\nerster Babyplausch nach 
 der Sommerpause: 09.09.2022!!!\n09.09., 16.09., 23.09., 30.09.,\n07.10., 14
 .10., 21.10.,\n04.11., 11.11., 18.11., 25.11.,\n02.12., 09.12., 16.12., 23.
 12.,\n13.01., 20.01., 27.01.\n \n \nBitte meldet euch spätestens einen Tag 
 vorher an und schreibt dazu, an welchen Termin ihr kommen möchtet!\n
X-ALT-DESC;FMTTYPE=text/html:<header class="frame-header"><h2 class="element-header ">Babyplausch</h2><h
 4>Austauschgruppe für Babymamas und Babypapas</h4><p>Als Mama hat man oft d
 as Bedürfnis sich mit anderen Mamas auszutauschen, das könnt ihr ganz ungez
 wungen Freitag vormittags im Spielringel bei Tee und Kuchen. Für die Babys 
 gibt es allerlei zu entdecken!</p><p>Nächste Termine:</p><p><strong>erster 
 Babyplausch nach der Sommerpause: 09.09.2022!!!</strong></p><p>09.09., 16.0
 9., 23.09., 30.09.,</p><p>07.10., 14.10., 21.10.,</p><p>04.11., 11.11., 18.
 11., 25.11.,</p><p>02.12., 09.12., 16.12., 23.12.,</p><p>13.01., 20.01., 27
 .01.</p><p> </p><p> </p><p><strong>Bitte meldet euch spätestens einen Tag v
 orher an und schreibt dazu, an welchen Termin ihr kommen möchtet!</strong><
 /p></header>
CONTACT:www.spielringel.at
X-EXTRAINFO:[preis='1200'][anmeldung='true']
DTSTAMP:20260423T144001
DTSTART:20221021T070000
DTEND:20221021T083000
SEQUENCE:0
TRANSP:OPAQUE
END:VEVENT
END:VCALENDAR