BEGIN:VCALENDAR
VERSION:2.0
PRODID:-//jEvents 2.0 for Joomla//EN
CALSCALE:GREGORIAN
METHOD:PUBLISH
BEGIN:VEVENT
UID:758f7b95b9b58ba7927e2339f10104a1
CATEGORIES:23. Bezirk
CREATED:20220707T151145
SUMMARY:Eltern-Kind-Tanzraum (1,5 - 3 Jahre) 
LOCATION:VHS Erlaa\, Putzendoplergasse 4\, 1230 Wien
DESCRIPTION:Spielerisch und mit viel Freude an Musik, Rhythmus, Bewegung und Sprache ta
 sten wir uns gemeinsam an das große Bewegungsfeld: 'Tanz' heran und lassen 
 dabei alles zu was die gemeinsame Zeit für Kinder und ihre (Groß)Eltern zu 
 einem Erlebnis mit einem Strauß schöner Erinnerungen werden lässt.\nPreis f
 ür beide Termine: 13,40 €\nNähere Informationen und Anmeldung: https://www.
 vhs.at/de/k/285621451 oder unter 0 189 147 123 302 oder erlaa@vhs.at  (mail
 to:erlaa@vhs.at)\nSchnuppern ist möglich!\n
X-ALT-DESC;FMTTYPE=text/html:<p>Spielerisch und mit viel Freude an Musik, Rhythmus, Bewegung und Sprache
  tasten wir uns gemeinsam an das große Bewegungsfeld: 'Tanz' heran und lass
 en dabei alles zu was die gemeinsame Zeit für Kinder und ihre (Groß)Eltern 
 zu einem Erlebnis mit einem Strauß schöner Erinnerungen werden lässt.</p><p
 ><strong>Preis für beide Termine: 13,40 €</strong></p><p>Nähere Information
 en und Anmeldung: https://www.vhs.at/de/k/285621451 oder unter 0 189 147 12
 3 302 oder <a href="mailto:erlaa@vhs.at">erlaa@vhs.at </a></p><p><strong>Sc
 hnuppern ist möglich!</strong></p>
CONTACT:01 89 174 123 302 oder erlaa@vhs.at
X-EXTRAINFO:[preis='1340'][anmeldung='true']
DTSTAMP:20260423T185911
DTSTART:20220720T123000
DTEND:20220727T133000
SEQUENCE:0
TRANSP:OPAQUE
END:VEVENT
END:VCALENDAR