BEGIN:VCALENDAR
VERSION:2.0
PRODID:-//jEvents 2.0 for Joomla//EN
CALSCALE:GREGORIAN
METHOD:PUBLISH
BEGIN:VEVENT
UID:8326c406ca7540109061b7e1bf7e4fbc
CATEGORIES:23. Bezirk
CREATED:20220718T092742
SUMMARY:Elementares Musizieren (10-18 Monate)
LOCATION:VHS Erlaa - Putzendoplergasse 4 /1230 Wien
DESCRIPTION:<p>Nach dem Kurs ist die Freude an der Musik von Eltern und Kindern geweckt
 . Ihr Kind hat musikalisches Neuland erforscht und kreative Zugänge zur Mus
 ik und zur Welt entdeckt, seine Sprachkompetenzen wurden gefördert. Sie sel
 bst haben Ihre eigenen musikalischen Fähigkeiten (wieder-)entdeckt und entf
 altet. Sie können die neuen Impulse und Anregungen für das gemeinsame Musik
 erleben zu Hause nützen. Schnuppern ist möglich! Nähere Informationen unter
  <a href="https://www.vhs.at/de/k/285621523">https://www.vhs.at/de/k/285621
 523</a></p><p><strong>Schnuppern ist jederzeit möglich!</strong></p><p><str
 ong>Preis für alle Termine 6 Termine: 39 Euro </strong></p>
CONTACT:Erlaa@vhs.at oder 01/ 89 174 123 302
X-EXTRAINFO:[preis='3900'][anmeldung='false']
DTSTAMP:20260423T113550
DTSTART:20221013T080000
DTEND:20221124T100000
SEQUENCE:0
TRANSP:OPAQUE
END:VEVENT
END:VCALENDAR