BEGIN:VCALENDAR
VERSION:2.0
PRODID:-//jEvents 2.0 for Joomla//EN
CALSCALE:GREGORIAN
METHOD:PUBLISH
BEGIN:VEVENT
UID:b9c72f14a89604ad3cff59f6b5110356
CATEGORIES:23. Bezirk
CREATED:20220718T114524
SUMMARY:Babyturnen (9-18 Monate)
LOCATION:VHS Erlaa - Putzendoplergasse 4 /1230 Wien
DESCRIPTION:<p>Gesunde Kinder bewegen sich gern. Ziel des Babyturnens ist es, die Babys
  mit einfachen, spielerischen Übungen in ihrer Bewegungsentwicklung zu förd
 ern. Gleichzeitig werden die Sinne geschärft und die Körperwahrnehmung posi
 tiv beeinflusst. Vor allem aber sollen Kinder und Eltern Spaß an der gemein
 samen Bewegung haben.</p><p><strong>Schnuppern ist möglich!</strong></p><p>
 <strong>Preis für alle 6 Termine: 44 €</strong></p><p><strong>Nähere Inform
 ationen unter:</strong> <a href="https://www.vhs.at/de/k/285611295">www.vhs
 .at/de/k/285611295</a></p>
CONTACT:erlaa@vhs.at oder 01/ 89 174 123 302
X-EXTRAINFO:[preis='4400'][anmeldung='true']
DTSTAMP:20260423T161916
DTSTART:20221017T080000
DTEND:20221128T100000
SEQUENCE:0
TRANSP:OPAQUE
END:VEVENT
END:VCALENDAR