BEGIN:VCALENDAR
VERSION:2.0
PRODID:-//jEvents 2.0 for Joomla//EN
CALSCALE:GREGORIAN
METHOD:PUBLISH
BEGIN:VEVENT
UID:edf932e8d0a187e683502165ac0dfe7e
CATEGORIES:23. Bezirk
CREATED:20220718T115440
SUMMARY:Babyturnen (9-18 Monate)
LOCATION:VHS Erlaa - Putzendoplergasse 4 /1230 Wien
DESCRIPTION:<p>Gesunde Kinder bewegen sich gern. Ziel des Babyturnens ist es, die Babys
  mit einfachen, spielerischen Übungen in ihrer Bewegungsentwicklung zu förd
 ern. Gleichzeitig werden die Sinne geschärft und die Körperwahrnehmung posi
 tiv beeinflusst. Vor allem aber sollen Kinder und Eltern Spaß an der gemein
 samen Bewegung haben.</p><p><strong>Schnuppern ist möglich!</strong></p><p>
 <strong>Preis für alle sechs Termine: 44 €</strong></p><p><strong>Nähere In
 formationen unter</strong> <a href="https://www.vhs.at/de/k/285611371">http
 s://www.vhs.at/de/k/285611371</a></p>
CONTACT:erlaa@vhs.at oder 01/ 89 174 123 302
X-EXTRAINFO:[preis='4400'][anmeldung='true']
DTSTAMP:20260423T142835
DTSTART:20221005T083000
DTEND:20221116T103000
SEQUENCE:0
TRANSP:OPAQUE
END:VEVENT
END:VCALENDAR