BEGIN:VCALENDAR
VERSION:2.0
PRODID:-//jEvents 2.0 for Joomla//EN
CALSCALE:GREGORIAN
METHOD:PUBLISH
BEGIN:VEVENT
UID:273a067c0dbdcefa30975382aaa40217
CATEGORIES:23. Bezirk
CREATED:20220718T120702
SUMMARY:Eltern-Kind-Tanzraum 1,5-3 Jahre
LOCATION:VHS Erlaa - Putzendoplergasse 4 /1230 Wien
DESCRIPTION:<p>Spielerisch und mit viel Freude an Musik, Rhythmus, Bewegung und Sprache
  tasten wir uns gemeinsam an das große Bewegungsfeld 'Tanz' heran und lasse
 n dabei alles zu, was die gemeinsame Zeit für Kinder und ihre (Groß-) Elter
 n zu einem Erlebnis mit einem Strauß schöner Erinnerungen werden lässt.</p>
 <p><strong>Schnuppern ist möglich!</strong></p><p><strong>Preis für alle 6 
 Termine: 44 €</strong></p><p><strong>Nähere Informationen unter </strong><a
  href="https://www.vhs.at/de/k/285611377">https://www.vhs.at/de/k/285611377
 </a></p>
CONTACT:erlaa@vhs.at oder 01/ 89 174 123 302
X-EXTRAINFO:[preis='4400'][anmeldung='true']
DTSTAMP:20260423T162857
DTSTART:20221101T130000
DTEND:20221213T140000
SEQUENCE:0
TRANSP:OPAQUE
END:VEVENT
END:VCALENDAR