BEGIN:VCALENDAR
VERSION:2.0
PRODID:-//jEvents 2.0 for Joomla//EN
CALSCALE:GREGORIAN
METHOD:PUBLISH
BEGIN:VEVENT
UID:89518fe77b253eef57b87a04fbb6ec99
CATEGORIES:18. Bezirk
CREATED:20220724T151653
SUMMARY:Spielgruppe mit Musik für Babys 
LOCATION:Spielringel\, Mollgasse 11-13
DESCRIPTION:<div class="frame frame-default frame-type-textpic frame-layout-0 frame-bac
 kground-none frame-no-backgroundimage frame-space-before-none frame-space-a
 fter-none"><header class="frame-header"><h2 class="element-header ">Spielgr
 uppe mit Musik für Babys </h2><h4>(6-14 Monate)</h4></header><div class="fr
 ame-container"><div class="frame-inner"><div class="textpic textpic-right">
 <div class="textpic-item textpic-text"><p><span class="text-primary font-we
 ight-bold">Start: </span> 07.09.2022</p><p><span class="text-primary font-w
 eight-bold">Mit: </span><a href="https://spielringel.at/angebote/das-team/s
 usanne">Susanne</a></p><p><span class="text-primary font-weight-bold">Kurst
 ag: </span> Mittwoch 14:00-14:45</p><p><span class="text-primary font-weigh
 t-bold">Termine: </span> 07.09., 14.09., 21.09., 28.09., 05.10.</p><p><span
  class="text-primary font-weight-bold">Kosten: </span> €75,-(5 Einheiten)</
 p><p>„Musikalität ist vor allem die Fähigkeit von Musik berührt zu werden."
 </p><p>Es wird dem Alter und der Entwicklung der Babys entsprechend, gespie
 lt, gesungen, getanzt und musiziert. Musik fördert die Entwicklung von Baby
 s: Sie ist gut für die Bewegungskoordination, die Sprachentwicklung, den Gl
 eichgewichtssinn und die Bindung zur Bezugsperson. Das beste daran ist, das
 s es einfach Freude macht!</p><p> </p></div></div></div></div></div><div id
 ="c784" class="frame frame-default frame-type-form_formframework frame-layo
 ut-0 frame-background-none frame-no-backgroundimage frame-space-before-none
  frame-space-after-none"><div class="frame-container"><div class="frame-inn
 er"><div class="form-container form-identifier-anmeldeformular-784"><form i
 d="anmeldeformular-784" enctype="multipart/form-data" method="post" novalid
 ate="novalidate"><div> </div><input id="anmeldeformular-784-WTsIN3Yy4vt" st
 yle="position: absolute; margin: 0 0 0 -999em;" tabindex="-1" autocomplete=
 "WTsIN3Yy4vt" name="tx_form_formframework[anmeldeformular-784][WTsIN3Yy4vt]
 " type="text" /><div class="form-actions"> </div></form></div></div></div><
 /div>
CONTACT:www.spielringel.at
X-EXTRAINFO:[preis='7500'][anmeldung='true']
DTSTAMP:20260423T144310
DTSTART:20221005T120000
DTEND:20221005T124500
SEQUENCE:0
TRANSP:OPAQUE
END:VEVENT
END:VCALENDAR