BEGIN:VCALENDAR
VERSION:2.0
PRODID:-//jEvents 2.0 for Joomla//EN
CALSCALE:GREGORIAN
METHOD:PUBLISH
BEGIN:VEVENT
UID:70bf4320a0d61b5a51485ff2d82e11d4
CATEGORIES:18. Bezirk
CREATED:19700101T010000
SUMMARY:Komm, tanz mit mir
LOCATION:Spielringel\, Mollgasse 11-13
DESCRIPTION:Komm, tanz mit mirMusik- und Bewegungsgruppe (für 2-4Jährige mit Begleitung
 )Start:  07.09.2022\nMit: Susanne (https://spielringel.at/angebote/das-team
 /susanne)\nKurstag:  Mittwoch 15:15-16:00\nTermine:  07.09., 14.09., 21.09.
 , 28.09., 05.10.\nKosten:  €75- für 5 Einheiten\nGemeinsam gehen wir auf ei
 ne Reise, singen, tanzen und tauchen ein in die Welt der Rhytmik. Mal sind 
 wir Piraten, mal Abenteurer oder Tiere, verstecken uns, segeln oder entdeck
 en neue Klänge.\nLieder werden mit allen Sinnen erforscht, wobei auch der E
 insatz verschiedenster Instrumente nicht zu kurz kommt. Durch Tänze und Lie
 der wird die Motorik, aber auch das rhythmische und musikalische Verständni
 s , Kreativität, soziales Lernen und die Sprachentwicklung gefördert. Bei r
 hythmischen Bewegungs- und Tanzspielen steht eines immer an erster Stelle. 
 der Spaß!\n \n
X-ALT-DESC;FMTTYPE=text/html:<header class="frame-header"><h2 class="element-header ">Komm, tanz mit mir
 </h2><h4>Musik- und Bewegungsgruppe (für 2-4Jährige mit Begleitung)</h4><p>
 <span class="text-primary font-weight-bold">Start: </span> 07.09.2022</p><p
 ><span class="text-primary font-weight-bold">Mit: </span><a href="https://s
 pielringel.at/angebote/das-team/susanne">Susanne</a></p><p><span class="tex
 t-primary font-weight-bold">Kurstag: </span> Mittwoch 15:15-16:00</p><p><sp
 an class="text-primary font-weight-bold">Termine: </span> 07.09., 14.09., 2
 1.09., 28.09., 05.10.</p><p><span class="text-primary font-weight-bold">Kos
 ten: </span> €75- für 5 Einheiten</p><p>Gemeinsam gehen wir auf eine Reise,
  singen, tanzen und tauchen ein in die Welt der Rhytmik. Mal sind wir Pirat
 en, mal Abenteurer oder Tiere, verstecken uns, segeln oder entdecken neue K
 länge.</p><p>Lieder werden mit allen Sinnen erforscht, wobei auch der Einsa
 tz verschiedenster Instrumente nicht zu kurz kommt. Durch Tänze und Lieder 
 wird die Motorik, aber auch das rhythmische und musikalische Verständnis , 
 Kreativität, soziales Lernen und die Sprachentwicklung gefördert. Bei rhyth
 mischen Bewegungs- und Tanzspielen steht eines immer an erster Stelle. der 
 Spaß!</p><p> </p></header>
CONTACT:www.spielringel.at
X-EXTRAINFO:[preis='7500'][anmeldung='true']
DTSTAMP:20260423T162303
DTSTART:20220907T131500
DTEND:20220907T140000
SEQUENCE:0
TRANSP:OPAQUE
END:VEVENT
END:VCALENDAR