BEGIN:VCALENDAR
VERSION:2.0
PRODID:-//jEvents 2.0 for Joomla//EN
CALSCALE:GREGORIAN
METHOD:PUBLISH
BEGIN:VEVENT
UID:d3bfccb4128e59a358b415fe7871da17
CATEGORIES:18. Bezirk
CREATED:19700101T010000
SUMMARY:Sinnesspielgruppe für Kleinstkinder
LOCATION:Spielringel\, Mollgasse 11-13
DESCRIPTION:Sinnesspielgruppe für Kleinstkindervon ca. 10 Monaten bis 2 JahreStart:  08
 .09.2022\nMit: Claudia (https://spielringel.at/angebote/das-team/claudia)\n
 Kurstag:  Donnerstag 09:30-10:30\nTermine:  08.09., 15.09., 22.09., 29.09.,
  06.10.\nKosten:  €80,- (5-Wochen Kurs)\nDer Mensch ist eine Sonne, seine S
 inne sind seine Planeten.\n Novalis\nIn unserer Sinnesspielgruppe entdecken
  die Kinder spielend viel Neues und lernen dabei auch noch neue Freunde ken
 nen. Die Sinne der Kinder werden mit Hilfe verschiedener Materialien spiele
 risch angeregt, es wird experimentiert und auch gebastelt. Achtsamkeit, Wah
 rnehmungsförderung und Sinnesschulung stehen im Vordergrund! .\nGenießt die
  Zeit beim gemeinsamen Spielen und Entdecken mit euren Kindern!\n
X-ALT-DESC;FMTTYPE=text/html:<header class="frame-header"><h2 class="element-header ">Sinnesspielgruppe 
 für Kleinstkinder</h2><h4>von ca. 10 Monaten bis 2 Jahre</h4></header><div 
 class="frame-container"><div class="frame-inner"><div class="textpic textpi
 c-right"><div class="textpic-item textpic-text"><p><span class="text-primar
 y font-weight-bold">Start: </span> 08.09.2022</p><p><span class="text-prima
 ry font-weight-bold">Mit: </span><a href="https://spielringel.at/angebote/d
 as-team/claudia">Claudia</a></p><p><span class="text-primary font-weight-bo
 ld">Kurstag: </span> Donnerstag 09:30-10:30</p><p><span class="text-primary
  font-weight-bold">Termine: </span> 08.09., 15.09., 22.09., 29.09., 06.10.<
 /p><p><span class="text-primary font-weight-bold">Kosten: </span> €80,- (5-
 Wochen Kurs)</p><p>Der Mensch ist eine Sonne, seine Sinne sind seine Planet
 en.<br /> Novalis</p><p>In unserer Sinnesspielgruppe entdecken die Kinder s
 pielend viel Neues und lernen dabei auch noch neue Freunde kennen. Die Sinn
 e der Kinder werden mit Hilfe verschiedener Materialien spielerisch angereg
 t, es wird experimentiert und auch gebastelt. Achtsamkeit, Wahrnehmungsförd
 erung und Sinnesschulung stehen im Vordergrund! .</p><p>Genießt die Zeit be
 im gemeinsamen Spielen und Entdecken mit euren Kindern!</p></div></div></di
 v></div>
CONTACT:www.spielringel.at
X-EXTRAINFO:[preis='8000'][anmeldung='true']
DTSTAMP:20260423T155941
DTSTART:20220908T073000
DTEND:20220908T083000
SEQUENCE:0
TRANSP:OPAQUE
END:VEVENT
END:VCALENDAR