BEGIN:VCALENDAR
VERSION:2.0
PRODID:-//jEvents 2.0 for Joomla//EN
CALSCALE:GREGORIAN
METHOD:PUBLISH
BEGIN:VEVENT
UID:6f1adb62c38a76142ecb9bf4144793b0
CATEGORIES:7. Bezirk
CREATED:20220816T223710
SUMMARY:Babymassage Kurs
LOCATION:1070 Wien - Mariahilfer Straße 82 
DESCRIPTION: \nBabymassage Kurs in Prana Yoga Studio\n \nIm Babymassagekurs zeige ich d
 ir Techniken und Griffe an einer Puppe, welche du im Anschluss und unter me
 iner Anleitung an deinem Baby umsetzen kannst. In einer entspannten und str
 essfreien Atmosphäre erlernst du die Ganzkörpermassage für Babys, wir besch
 äftigen uns auch mit der Kolikmassage, besseren Babyschlaf, sowie Entspannu
 ngstechniken für Eltern und Kind. Du lernst die Signale deines Babys besser
  zu lesen und dessen Bedürfnisse zu verstehen.\nBabymassagekurse eignen sic
 h für Babys ab der 6. Lebenswoche (bzw sobald der Nabel abgeheilt ist) bis 
 etwa zum Krabbelalter, bei Frühchen und Kindern mit besonderen Bedürfnissen
  je nach Entwicklungsstand des Kindes.\nDer respektvolle Umgang und die Bed
 ürfnisse eurer Babys stehen immer an oberster Stelle, die aktive Massagezei
 t richtet sich nach euch und euren Kind, es steht immer ausreichend Zeit fü
 r Stillen, Wickeln und Kuscheln zur Verfügung. Ihr könnt ganz in Ruhe ankom
 men und eine unbeschwerte, entspannte, gemeinsame Zeit verbringen.\nDer Bab
 ymassagekurs umfasst 4 Termine, welche einmal wöchentlich statt finden. Bei
 m ersten Termin erhältst du ausführliche Unterlagen in denen alle Griffe no
 chmals genau erklärt sind, sowie ein geeignetes Babymassage Öl.\nFür Nähere
  Informationen sowie Anmeldung:\nfor little ones - Susanne Pinkhart \n \nww
 w.for-little-ones.com (http://www.for-little-ones.com)\n0680 158 26 48\noff
 ice@for-little-ones.com\n \n \n \n \n \n \n \n
X-ALT-DESC;FMTTYPE=text/html:<p> </p><p style="text-align: center;"><strong>Babymassage Kurs in Prana Yo
 ga Studio</strong></p><p> </p><p style="text-align: justify;">Im Babymassag
 ekurs zeige ich dir Techniken und Griffe an einer Puppe, welche du im Ansch
 luss und unter meiner Anleitung an deinem Baby umsetzen kannst. In einer en
 tspannten und stressfreien Atmosphäre erlernst du die Ganzkörpermassage für
  Babys, wir beschäftigen uns auch mit der Kolikmassage, besseren Babyschlaf
 , sowie Entspannungstechniken für Eltern und Kind. Du lernst die Signale de
 ines Babys besser zu lesen und dessen Bedürfnisse zu verstehen.</p><p style
 ="text-align: justify;">Babymassagekurse eignen sich für Babys ab der 6. Le
 benswoche (bzw sobald der Nabel abgeheilt ist) bis etwa zum Krabbelalter, b
 ei Frühchen und Kindern mit besonderen Bedürfnissen je nach Entwicklungssta
 nd des Kindes.</p><p style="text-align: justify;">Der respektvolle Umgang u
 nd die Bedürfnisse eurer Babys stehen immer an oberster Stelle, die aktive 
 Massagezeit richtet sich nach euch und euren Kind, es steht immer ausreiche
 nd Zeit für Stillen, Wickeln und Kuscheln zur Verfügung. Ihr könnt ganz in 
 Ruhe ankommen und eine unbeschwerte, entspannte, gemeinsame Zeit verbringen
 .</p><p style="text-align: justify;">Der Babymassagekurs umfasst 4 Termine,
  welche einmal wöchentlich statt finden. Beim ersten Termin erhältst du aus
 führliche Unterlagen in denen alle Griffe nochmals genau erklärt sind, sowi
 e ein geeignetes Babymassage Öl.</p><p style="text-align: justify;">Für Näh
 ere Informationen sowie Anmeldung:</p><p style="text-align: justify;">for l
 ittle ones - Susanne Pinkhart </p><p style="text-align: justify;"> </p><p s
 tyle="text-align: justify;"><a href="http://www.for-little-ones.com">www.fo
 r-little-ones.com</a></p><p style="text-align: justify;">0680 158 26 48</p>
 <p style="text-align: justify;">office@for-little-ones.com</p><p style="tex
 t-align: justify;"> </p><p style="text-align: justify;"> </p><p style="text
 -align: justify;"> </p><p style="text-align: justify;"> </p><p style="text-
 align: justify;"> </p><p style="text-align: justify;"> </p><p style="text-a
 lign: justify;"> </p>
CONTACT:Susanne Pinkhart 
X-EXTRAINFO:[preis='9000'][anmeldung='true']
DTSTAMP:20260423T124916
DTSTART:20221115T090000
DTEND:20221115T100000
SEQUENCE:0
TRANSP:OPAQUE
END:VEVENT
END:VCALENDAR