BEGIN:VCALENDAR
VERSION:2.0
PRODID:-//jEvents 2.0 for Joomla//EN
CALSCALE:GREGORIAN
METHOD:PUBLISH
BEGIN:VEVENT
UID:3c6c030789b3b67e6e929e3dc4217975
CATEGORIES:21. Bezirk
CREATED:20220821T102122
SUMMARY:Spielgruppe
LOCATION:1221 Wien
DESCRIPTION:1 - 3 Jahre /www.littlesuns.at (http://www.littlesuns.at)\n
X-ALT-DESC;FMTTYPE=text/html:<p>1 - 3 Jahre /<a href="http://www.littlesuns.at">www.littlesuns.at</a></p
 >
CONTACT:06645274715
X-EXTRAINFO:[preis='000'][anmeldung='true']
DTSTAMP:20260423T122437
DTSTART:20220919T090000
DTEND:20220919T103000
SEQUENCE:0
TRANSP:OPAQUE
END:VEVENT
END:VCALENDAR