BEGIN:VCALENDAR
VERSION:2.0
PRODID:-//jEvents 2.0 for Joomla//EN
CALSCALE:GREGORIAN
METHOD:PUBLISH
BEGIN:VEVENT
UID:cf176fc4e7a6730821c40b6b8a163779
CATEGORIES:21. Bezirk
CREATED:20220821T103704
SUMMARY:Babygruppe
LOCATION:1210 Wien
DESCRIPTION:<p>0 - 1 Jahre/<a href="http://www.littlesuns.at">www.littlesuns.at</a></p>
CONTACT:06645274715
X-EXTRAINFO:[preis='000'][anmeldung='true']
DTSTAMP:20260423T140123
DTSTART:20220921T090000
DTEND:20220921T103000
SEQUENCE:0
TRANSP:OPAQUE
END:VEVENT
END:VCALENDAR