BEGIN:VCALENDAR
VERSION:2.0
PRODID:-//jEvents 2.0 for Joomla//EN
CALSCALE:GREGORIAN
METHOD:PUBLISH
BEGIN:VEVENT
UID:ea0ff90a717f089b01cfe0e8da2d0b1b
CATEGORIES:2. Bezirk
CREATED:20220829T101213
SUMMARY:Babymassage mit Shiatsu (Kleingruppe)
LOCATION:Shiatsu für Zwei
DESCRIPTION:Wohltuende Berührungstechniken ermöglichen gemeinsam mit dem Baby zur Ruhe 
 zu finden, ihm berührend nah zu sein und ungeteilte Aufmerksamkeit zu schen
 ken. \n \nVermittelt wird Shiatsu fürs Baby als auch Babymassage, mit und o
 hne Öl.\nSo ist für jedes Bedürfnis was dabei - und ihr könnt für euch raus
 finden, was in welcher Situation für euch passt - unter der Wärmelampe am W
 ickeltisch, draußen auf der Picknickdecke, abends kurz vorm Einschlafen ode
 r wenn der Bauch zwickt und die Zähnchen drücken.\nwww.shiatsufuerzwei.at\n
X-ALT-DESC;FMTTYPE=text/html:<p class="font_8">Wohltuende Berührungstechniken ermöglichen gemeinsam mit 
 dem Baby zur Ruhe zu finden, ihm berührend nah zu sein und ungeteilte Aufme
 rksamkeit zu schenken. </p><p class="font_8"><span class="wixGuard"> </span
 ></p><p class="font_8">Vermittelt wird Shiatsu fürs Baby als auch Babymassa
 ge, mit und ohne Öl.</p><p class="font_8">So ist für jedes Bedürfnis was da
 bei - und ihr könnt für euch rausfinden, was in welcher Situation für euch 
 passt - unter der Wärmelampe am Wickeltisch, draußen auf der Picknickdecke,
  abends kurz vorm Einschlafen oder wenn der Bauch zwickt und die Zähnchen d
 rücken.</p><p class="font_8">www.shiatsufuerzwei.at</p>
CONTACT:Isabell 06702044155 isabell@shiatsufuerzwei.at
X-EXTRAINFO:[preis='12500'][anmeldung='true']
DTSTAMP:20260423T161612
DTSTART:20221207T103000
DTEND:20221207T113000
SEQUENCE:0
TRANSP:OPAQUE
END:VEVENT
END:VCALENDAR