BEGIN:VCALENDAR
VERSION:2.0
PRODID:-//jEvents 2.0 for Joomla//EN
CALSCALE:GREGORIAN
METHOD:PUBLISH
BEGIN:VEVENT
UID:a48be014ccbdd5f603ffecb845d478f9
CATEGORIES:19. Bezirk
CREATED:20220912T092523
SUMMARY:Spielerei
LOCATION:Raum Ida im Q19
DESCRIPTION:Spielereifür Babys von 6-18 Monaten (mit Begleitung)Eine gemeinsame Auszeit
  und die Möglichkeit eines Austausches mit Gleichgesinnten. Spielmaterial e
 ntdecken und ergiebig erkunden. Lieder, Reime, Finger- und Schmusespiele fö
 rdern die Sinnes- und Wahrnehmungserfahrungen. In unserer gemeinsamen Zeit 
 haben auch bindungs- und beziehungsorientierte Inputs, sowie angeleitete Ma
 ssagesprüche Platz.\n  Start:  16.09.2022\nMit: Uschi (https://spielringel.
 at/angebote/das-team/uschi-stuffer)\nKurstag:  Freitag 10:00-11:00 im Raum 
 Ida, Q19\nTermine:  16.09., 23.09., 30.09., 07.10., 14.10.\nKosten:  €75,- 
 (5-Wochen Kurs)\n 
X-ALT-DESC;FMTTYPE=text/html:<div class="frame frame-default frame-type-textpic frame-layout-0 frame-bac
 kground-none frame-no-backgroundimage frame-space-before-none frame-space-a
 fter-none"><div class="frame-container"><div class="frame-inner"><div class
 ="textpic textpic-right"><div class="textpic-item textpic-text"><header cla
 ss="frame-header"><h2 class="element-header ">Spielerei</h2><h4>für Babys v
 on 6-18 Monaten (mit Begleitung)</h4></header><p>Eine gemeinsame Auszeit un
 d die Möglichkeit eines Austausches mit Gleichgesinnten. Spielmaterial entd
 ecken und ergiebig erkunden. Lieder, Reime, Finger- und Schmusespiele förde
 rn die Sinnes- und Wahrnehmungserfahrungen. In unserer gemeinsamen Zeit hab
 en auch bindungs- und beziehungsorientierte Inputs, sowie angeleitete Massa
 gesprüche Platz.</p></div></div></div></div></div><div id="c838" class="fra
 me frame-default frame-type-form_formframework frame-layout-0 frame-backgro
 und-none frame-no-backgroundimage frame-space-before-none frame-space-after
 -none"><div class="frame-container"><div class="frame-inner"><div class="fo
 rm-container form-identifier-anmeldeformular-838"><form id="anmeldeformular
 -838" enctype="multipart/form-data" method="post" novalidate="novalidate"><
 div> </div><input id="anmeldeformular-838-qkQ6HDnY9rVTe7Xf3" style="positio
 n: absolute; margin: 0 0 0 -999em;" tabindex="-1" autocomplete="qkQ6HDnY9rV
 Te7Xf3" name="tx_form_formframework[anmeldeformular-838][qkQ6HDnY9rVTe7Xf3]
 " type="text" /><div class="form-actions"> <p><span class="text-primary fon
 t-weight-bold">Start: </span> 16.09.2022</p><p><span class="text-primary fo
 nt-weight-bold">Mit: </span><a href="https://spielringel.at/angebote/das-te
 am/uschi-stuffer">Uschi</a></p><p><span class="text-primary font-weight-bol
 d">Kurstag: </span> Freitag 10:00-11:00 im Raum Ida, Q19</p><p><span class=
 "text-primary font-weight-bold">Termine: </span> 16.09., 23.09., 30.09., 07
 .10., 14.10.</p><p><span class="text-primary font-weight-bold">Kosten: </sp
 an> €75,- (5-Wochen Kurs)</p></div></form></div></div></div></div><div styl
 e="position: static !important;"> </div>
CONTACT:www.spielringel.at
X-EXTRAINFO:[preis='7500'][anmeldung='true']
DTSTAMP:20260423T093707
DTSTART:20221014T080000
DTEND:20221014T090000
SEQUENCE:0
TRANSP:OPAQUE
END:VEVENT
END:VCALENDAR