BEGIN:VCALENDAR
VERSION:2.0
PRODID:-//jEvents 2.0 for Joomla//EN
CALSCALE:GREGORIAN
METHOD:PUBLISH
BEGIN:VEVENT
UID:1d5db06147d2309e753ed92fe863c019
CATEGORIES:3. Bezirk
CREATED:20220913T112321
SUMMARY:Montessori
LOCATION:derkreativraum\, Hörnesgasse 18\, 1030 Wien
DESCRIPTION:<p><a href="http://www.derkreativraum.at">www.derkreativraum.at</a></p>
CONTACT:06643935509 oder office@derkreativraum.at (Mag. Gyda Federer)
X-EXTRAINFO:[preis='18000'][anmeldung='true']
DTSTAMP:20260423T190056
DTSTART:20221107T083000
DTEND:20221107T092000
SEQUENCE:0
TRANSP:OPAQUE
END:VEVENT
END:VCALENDAR