BEGIN:VCALENDAR
VERSION:2.0
PRODID:-//jEvents 2.0 for Joomla//EN
CALSCALE:GREGORIAN
METHOD:PUBLISH
BEGIN:VEVENT
UID:bc22570a26853ed9b1b990129ecbb6b7
CATEGORIES:3. Bezirk
CREATED:20220913T112630
SUMMARY:Montessori
LOCATION:Der Kreativraum
DESCRIPTION:www.derkreativraum.at (http://www.derkreativraum.at)\n
X-ALT-DESC;FMTTYPE=text/html:<p><a href="http://www.derkreativraum.at">www.derkreativraum.at</a></p>
CONTACT:06643935509 oder office@derkreativraum.at (Mag. Gyda Federer)
X-EXTRAINFO:[preis='18000'][anmeldung='true']
DTSTAMP:20260423T185743
DTSTART:20221010T130000
DTEND:20221010T140000
SEQUENCE:0
TRANSP:OPAQUE
END:VEVENT
END:VCALENDAR