BEGIN:VCALENDAR
VERSION:2.0
PRODID:-//jEvents 2.0 for Joomla//EN
CALSCALE:GREGORIAN
METHOD:PUBLISH
BEGIN:VEVENT
UID:b4250bed3d26f3abc7a8b7ddd9c81dc2
CATEGORIES:3. Bezirk
CREATED:20220913T113408
SUMMARY:Musikgarten
LOCATION:Der Kreativraum
DESCRIPTION:www.derkreativraum.at (http://www.derkreativraum.at)\n
X-ALT-DESC;FMTTYPE=text/html:<p><a href="http://www.derkreativraum.at">www.derkreativraum.at</a></p>
CONTACT:06643935509 oder office@derkreativraum.at (Mag. Gyda Federer)
X-EXTRAINFO:[preis='17600'][anmeldung='true']
DTSTAMP:20260423T185752
DTSTART:20221005T103000
DTEND:20221005T112000
SEQUENCE:0
TRANSP:OPAQUE
END:VEVENT
END:VCALENDAR