BEGIN:VCALENDAR
VERSION:2.0
PRODID:-//jEvents 2.0 for Joomla//EN
CALSCALE:GREGORIAN
METHOD:PUBLISH
BEGIN:VEVENT
UID:146daf578a30187cf7d51aaddff2b7f3
CATEGORIES:3. Bezirk
CREATED:20220913T113652
SUMMARY:Sing- und Bewegungsmäuse
LOCATION:Der Kreativraum
DESCRIPTION:<p><a href="http://www.derkreativraum.at">www.derkreativraum.at</a></p>
CONTACT:06643935509 oder office@derkreativraum.at (Mag. Gyda Federer)
X-EXTRAINFO:[preis='16000'][anmeldung='true']
DTSTAMP:20260423T141834
DTSTART:20221103T083000
DTEND:20221103T092000
SEQUENCE:0
TRANSP:OPAQUE
END:VEVENT
END:VCALENDAR