BEGIN:VCALENDAR
VERSION:2.0
PRODID:-//jEvents 2.0 for Joomla//EN
CALSCALE:GREGORIAN
METHOD:PUBLISH
BEGIN:VEVENT
UID:a321a0fddc82eecade5485224f3d2260
CATEGORIES:3. Bezirk
CREATED:20220913T113831
SUMMARY:PEKiP
LOCATION:Der Kreativraum
DESCRIPTION:www.derkreativraum.at (http://www.derkreativraum.at)\n
X-ALT-DESC;FMTTYPE=text/html:<p><a href="http://www.derkreativraum.at">www.derkreativraum.at</a></p>
CONTACT:06643935509 oder office@derkreativraum.at (Mag. Gyda Federer)
X-EXTRAINFO:[preis='19800'][anmeldung='true']
DTSTAMP:20260423T215908
DTSTART:20220916T100000
DTEND:20220916T113000
SEQUENCE:0
TRANSP:OPAQUE
END:VEVENT
END:VCALENDAR