BEGIN:VCALENDAR
VERSION:2.0
PRODID:-//jEvents 2.0 for Joomla//EN
CALSCALE:GREGORIAN
METHOD:PUBLISH
BEGIN:VEVENT
UID:5a174d1368f9724911e987f701939647
CATEGORIES:3. Bezirk
CREATED:20220913T114509
SUMMARY:Rückbildungsgymnastik mit Yogaelementen
LOCATION:Der Kreativraum
DESCRIPTION:www.derkreativraum.at (http://www.derkreativraum.at)\n
X-ALT-DESC;FMTTYPE=text/html:<p><a href="http://www.derkreativraum.at">www.derkreativraum.at</a></p>
CONTACT:06643935509 oder office@derkreativraum.at
X-EXTRAINFO:[preis='18700'][anmeldung='true']
DTSTAMP:20260423T155929
DTSTART:20221027T130000
DTEND:20221027T140000
SEQUENCE:0
TRANSP:OPAQUE
END:VEVENT
END:VCALENDAR