BEGIN:VCALENDAR
VERSION:2.0
PRODID:-//jEvents 2.0 for Joomla//EN
CALSCALE:GREGORIAN
METHOD:PUBLISH
BEGIN:VEVENT
UID:5c6a931b164d593ce0efce0340b0438a
CATEGORIES:3. Bezirk
CREATED:20220913T115021
SUMMARY:JazzDance
LOCATION:Der Kreativraum
DESCRIPTION:<p><a href="http://www.derkreativraum.at">www.derkreativraum.at</a></p>
CONTACT:06643935509 oder office@derkreativraum.at (Mag. Gyda Federer)
X-EXTRAINFO:[preis='17600'][anmeldung='true']
DTSTAMP:20260423T190101
DTSTART:20221011T140000
DTEND:20221011T145000
SEQUENCE:0
TRANSP:OPAQUE
END:VEVENT
END:VCALENDAR