BEGIN:VCALENDAR
VERSION:2.0
PRODID:-//jEvents 2.0 for Joomla//EN
CALSCALE:GREGORIAN
METHOD:PUBLISH
BEGIN:VEVENT
UID:36c3461c9d3bda1584109a4f40c88ad0
CATEGORIES:3. Bezirk
CREATED:20220913T115301
SUMMARY:Kindertheater
LOCATION:Der Kreativraum
DESCRIPTION:www.derkreativraum.at (http://www.derkreativraum.at)\n
X-ALT-DESC;FMTTYPE=text/html:<p><a href="http://www.derkreativraum.at">www.derkreativraum.at</a></p>
CONTACT:06643935509 oder office@derkreativraum.at (Mag. Gyda Federer)
X-EXTRAINFO:[preis='17600'][anmeldung='true']
DTSTAMP:20260423T173015
DTSTART:20221018T160000
DTEND:20221018T165000
SEQUENCE:0
TRANSP:OPAQUE
END:VEVENT
END:VCALENDAR