BEGIN:VCALENDAR
VERSION:2.0
PRODID:-//jEvents 2.0 for Joomla//EN
CALSCALE:GREGORIAN
METHOD:PUBLISH
BEGIN:VEVENT
UID:fd8d76f12bee471b1207ef1330e59ff5
CATEGORIES:2. Bezirk
CREATED:20220829T093947
SUMMARY:Babymassage mit Shiatsu
LOCATION:Shiatsu für Zwei
DESCRIPTION:Wohltuende Berührungstechniken ermöglichen gemeinsam mit dem Baby zur Ruhe 
 zu finden, ihm berührend nah zu sein und ungeteilte Aufmerksamkeit zu schen
 ken. ?\nVermittelt wird Shiatsu fürs Baby als auch Babymassage, mit und ohn
 e Öl.\nAchtsames Berühren und Hinspüren wird so ein stückweit zur Selbstver
 ständlichkeit im alltäglichen Umgang miteinander.\nAls Shiatsu-Praktikerin 
 bringe ich 10 Jahre Erfahrung mit und freue mich effektive wohltuende Techn
 iken für Zuhause in einer angenehmen Atmosphäre weiterzugeben.\n\n\nMehr da
 zu: www.shiatsufuerzwei.at (http://www.shiatsufuerzwei.at)\n \n
X-ALT-DESC;FMTTYPE=text/html:<p class="font_8">Wohltuende Berührungstechniken ermöglichen gemeinsam mit 
 dem Baby zur Ruhe zu finden, ihm berührend nah zu sein und ungeteilte Aufme
 rksamkeit zu schenken. <span class="wixGuard">?</span></p><p class="font_8"
 >Vermittelt wird Shiatsu fürs Baby als auch Babymassage, mit und ohne Öl.</
 p><p class="font_8">Achtsames Berühren und Hinspüren wird so ein stückweit 
 zur Selbstverständlichkeit im alltäglichen Umgang miteinander.</p><p class=
 "font_8">Als Shiatsu-Praktikerin bringe ich 10 Jahre Erfahrung mit und freu
 e mich effektive wohltuende Techniken für Zuhause in einer angenehmen Atmos
 phäre weiterzugeben.<br /><br /></p><p class="font_8">Mehr dazu: <a href="h
 ttp://www.shiatsufuerzwei.at">www.shiatsufuerzwei.at</a></p><p class="font_
 8"> </p>
CONTACT:Isabell 0670 2044155
X-EXTRAINFO:[preis='12500'][anmeldung='true']
DTSTAMP:20260423T124959
DTSTART:20221122T103000
DTEND:20221122T113000
SEQUENCE:0
TRANSP:OPAQUE
END:VEVENT
END:VCALENDAR