BEGIN:VCALENDAR
VERSION:2.0
PRODID:-//jEvents 2.0 for Joomla//EN
CALSCALE:GREGORIAN
METHOD:PUBLISH
BEGIN:VEVENT
UID:3f620733da682b50b3fe6d1c72172c78
CATEGORIES:1. Bezirk
CREATED:20220922T002230
SUMMARY:Gruppentherapie für Mamas
LOCATION:Wollzeile 31/13\, 1010 Wien
DESCRIPTION:<p>Psychotherapie im Gruppensetting für Mamas von Babys und Kleinkindern </
 p><p>Schwangersein, Geburt geben, Mutterwerden, Mutter, Frau, Geschäftsfrau
  und Schwester bzw. Tochter sein ist nicht selbstverständlich, leicht und i
 mmer angenehm. </p><p>Ängste, Sorgen, Depression, Selbstabwertung, Leistung
 sdruck - immer alles perfekt zu machen und zu schaffen ist leider oft ein A
 lltagsleidensdruck bei (frischen) Mamas.</p><p>Gruppentherapie hat etwas be
 sonderes an sich - es findet in vertrautem Rahmen statt, psychotherapeutisc
 h begleitet und mit Frauen, die sich ähnlich fühlen. Therapie bietet einen 
 Raum für alles, was in Ihnen abläuft zu prozessieren, Halt zu bekommen und 
 sich verstanden, gesehen und geschätzt zu fühlen, ohne Leistungsdruck und G
 efahr abgewertet oder unterschätzt zu werden. </p><p><br />Gruppentherapie 
 findet einmal wöchentlich, bzw. einmal in zwei Wochen, je nach Vereinbarung
  der Gruppe statt.</p><p> </p><p>Für Anmeldungen aber auch Fragen bzgl. and
 eren Terminen oder Gruppen mit anderen Themen, bzw. Einzelgesprächen melden
  Sie sich gerne telefonisch bei mir unter +436677684633</p><p><br />Mag. Ta
 tjana Ottawa </p><p><a href="http://www.psychotherapie-ottawa.at">www.psych
 otherapie-ottawa.at</a> </p><p> </p>
CONTACT:+436677684633
X-EXTRAINFO:[preis='2500'][anmeldung='true']
DTSTAMP:20260423T111457
DTSTART:20221026T150000
DTEND:20221026T170000
SEQUENCE:0
TRANSP:OPAQUE
END:VEVENT
END:VCALENDAR