BEGIN:VCALENDAR
VERSION:2.0
PRODID:-//jEvents 2.0 for Joomla//EN
CALSCALE:GREGORIAN
METHOD:PUBLISH
BEGIN:VEVENT
UID:39e94af848f8d4331a4b26157dd10177
CATEGORIES:6. Bezirk
CREATED:20220922T091334
SUMMARY:Baby-Cafe
LOCATION:6.\, Sandwirtgasse 13/12
DESCRIPTION:Baby-CaféKaffeehaus-Flair mit KinderspielzeugBei richtig gutem Fair-Trade-K
 affee und leckerem selbstgemachten Bio-Gugelhupf kannst du dich entspannt z
 urücklehnen, deinem Kind beim Spielen in unseren übersichtlichen, kindersic
 heren Räumlichkeiten zusehen und mit anderen Mamas und Papas plaudern.\nWir
  laden dich und dein Kind montags und freitags in unser Biolino Baby-Café (
 https://www.biolino.at/baby-cafe/) ein. Bei biologischem Fair-Trade Kaffee,
  auf Wunsch auch koffeinfrei oder mit Pflanzenmilch, leckerem Bio-Kuchen un
 d österreichischen Bio-Fruchtsäften lässt es sich besonders gut plaudern un
 d spielen. Wir achten bei der Auswahl unserer Holzspielsachen darauf, dass 
 sie frei von Schadstoffen sind und nutzen Bio-Bambus Geschirr von Biobu.\n 
 \nWann: Montag und Freitag   (außer an den schulfreien Tagen)\nUhrzeit: 9.0
 0 - 12.00 Uhr\nWo: Biolino Institut, Sandwirtgasse 13, 1060 Wien\nKosten: €
  12,- Eintritt inkl. Bio-Kaffee (oder Bio-Tee, Bio-Kakao, Bio-Saft) und Bio
 -Gugelhupf (oder Bio-Obst) und Spielebeitrag Nur Barzahlung!\nEs gibt Platz
  für 6-8 Kinderwägen. Bei gutem Wetter kannst du auch im geschützten Innenh
 of parken. Wenn es dir möglich ist, komm gerne mit deiner Tragehilfe - so h
 aben wir alle mehr Platz zum Wohlfühlen.\nMIT ANMELDUNG!\nhttps://www.bioli
 no.at/baby-cafe/ (https://www.biolino.at/baby-cafe/)\n \nSchau vorbei zum S
 pielen und Plaudern.\nIch freue mich auf dich!\nAlles Liebe,\nMartina\n
X-ALT-DESC;FMTTYPE=text/html:<div class="eventContent"><h1>Baby-Café</h1><h2>Kaffeehaus-Flair mit Kinder
 spielzeug</h2><p><strong>Bei richtig gutem Fair-Trade-Kaffee und leckerem s
 elbstgemachten Bio-Gugelhupf kannst du dich entspannt zurücklehnen, deinem 
 Kind beim Spielen in unseren übersichtlichen, kindersicheren Räumlichkeiten
  zusehen und mit anderen Mamas und Papas plaudern.</strong></p><p>Wir laden
  dich und dein Kind montags und freitags in unser <a href="https://www.biol
 ino.at/baby-cafe/">Biolino Baby-Café</a> ein. Bei biologischem Fair-Trade K
 affee, auf Wunsch auch koffeinfrei oder mit Pflanzenmilch, leckerem Bio-Kuc
 hen und österreichischen Bio-Fruchtsäften lässt es sich besonders gut plaud
 ern und spielen. Wir achten bei der Auswahl unserer Holzspielsachen darauf,
  dass sie frei von Schadstoffen sind und nutzen Bio-Bambus Geschirr von Bio
 bu.</p><p> </p><p><strong>Wann</strong>: Montag und Freitag   (außer an den
  schulfreien Tagen)</p><p><strong>Uhrzeit</strong>: 9.00 - 12.00 Uhr</p><p>
 <strong>Wo</strong>: Biolino Institut, Sandwirtgasse 13, 1060 Wien</p><p><s
 trong>Kosten</strong>: € 12,- Eintritt inkl. Bio-Kaffee (oder Bio-Tee, Bio-
 Kakao, Bio-Saft) und Bio-Gugelhupf (oder Bio-Obst) und Spielebeitrag Nur Ba
 rzahlung!</p><p>Es gibt Platz für <strong>6-8 Kinderwägen</strong>. Bei gut
 em Wetter kannst du auch im geschützten Innenhof parken. Wenn es dir möglic
 h ist, komm gerne mit deiner Tragehilfe - so haben wir alle mehr Platz zum 
 Wohlfühlen.</p><p><strong>MIT ANMELDUNG!</strong></p><p><a href="https://ww
 w.biolino.at/baby-cafe/">https://www.biolino.at/baby-cafe/</a></p><p> </p><
 p>Schau vorbei zum Spielen und Plaudern.</p><p>Ich freue mich auf dich!</p>
 <p>Alles Liebe,</p><p>Martina</p></div>
CONTACT:martina.novak@biolino.at, 067762892970
X-EXTRAINFO:[preis='1200'][anmeldung='true']
DTSTAMP:20260423T141527
DTSTART:20221024T070000
DTEND:20221024T100000
SEQUENCE:0
TRANSP:OPAQUE
END:VEVENT
END:VCALENDAR