BEGIN:VCALENDAR
VERSION:2.0
PRODID:-//jEvents 2.0 for Joomla//EN
CALSCALE:GREGORIAN
METHOD:PUBLISH
BEGIN:VEVENT
UID:f3eb7d60e8be350a6464c698ded9fff7
CATEGORIES:16. Bezirk
CREATED:20220928T150757
SUMMARY:Babywissen - Elternbildung
LOCATION:SpielRaum Atelier\, Thaliastraße 132/1\, 1160 Wien
DESCRIPTION:<p>Workshop für Eltern vor der Geburt und im ersten Lebensjahr: was kann ic
 h tun, damit mein Baby eine sichere Bindung aufbaut, sich zum guten Schläfe
 r entwickelt und sich selbst beschäftigen kann? Wie lange ist Stillen sinnv
 oll und ab wann kann es in der Nacht ohne Nahrung auskommen? Welche Einschl
 afhilfen sind in welchem Alter hilfreich und wie begleite ich das Babyweine
 n? </p><p>Viele hilfreiche Tipps für das erste Lebensjahr und Wissen, das s
 ich viele Eltern die zu mir in den Pikler-SpielRaum kommen schon früher gew
 ünscht hätten!</p><p>Als Entwicklungspsychologin, Pikler-Kleinkindpädagogin
  und 4-fache Mutter begleite ich nun seit mehr als 10 Jahren junge Eltern m
 it Säuglingen und Kleinkindern.</p><p>Bitte sorge für Kinderbetreuung währe
 nd der Zeit des Workshops!</p>
CONTACT:www.brita-guth.at, mail@brita-guth.at, 0650/2748248
X-EXTRAINFO:[preis='3500'][anmeldung='true']
DTSTAMP:20260423T122658
DTSTART:20221024T083000
DTEND:20221024T103000
SEQUENCE:0
TRANSP:OPAQUE
END:VEVENT
END:VCALENDAR