BEGIN:VCALENDAR
VERSION:2.0
PRODID:-//jEvents 2.0 for Joomla//EN
CALSCALE:GREGORIAN
METHOD:PUBLISH
BEGIN:VEVENT
UID:b11f2f438921db567f2ad93a953bf254
CATEGORIES:19. Bezirk
CREATED:20221003T104609
SUMMARY:Verspielte Stunde
LOCATION:Raum Ida im Q19
DESCRIPTION:Nach einem Begrüßungslied werden den Babys verschiedene Materialien angebot
 en. Passende Kniereiter und Fingerspiele runden das Angebot ab.\nStart:  18
 .10.2022\nMit: Claudia (https://spielringel.at/angebote/das-team/claudia)\n
 Kurstag:  Dienstag 13:30-14:30 im Raum Ida, Q19\nTermine:  18.10., 25.10., 
 08.11., 22.11., 29.11.\nKosten:  €70,- (5-Wochen Kurs)\n
X-ALT-DESC;FMTTYPE=text/html:<p>Nach einem Begrüßungslied werden den Babys verschiedene Materialien ange
 boten. Passende Kniereiter und Fingerspiele runden das Angebot ab.</p><p><s
 pan class="text-primary font-weight-bold">Start: </span> 18.10.2022</p><p><
 span class="text-primary font-weight-bold">Mit: </span><a href="https://spi
 elringel.at/angebote/das-team/claudia">Claudia</a></p><p><span class="text-
 primary font-weight-bold">Kurstag: </span> Dienstag 13:30-14:30 im Raum Ida
 , Q19</p><p><span class="text-primary font-weight-bold">Termine: </span> 18
 .10., 25.10., 08.11., 22.11., 29.11.</p><p><span class="text-primary font-w
 eight-bold">Kosten: </span> €70,- (5-Wochen Kurs)</p>
CONTACT:www.spielringel.at
X-EXTRAINFO:[preis='7000'][anmeldung='true']
DTSTAMP:20260423T094203
DTSTART:20221108T123000
DTEND:20221108T133000
SEQUENCE:0
TRANSP:OPAQUE
END:VEVENT
END:VCALENDAR