BEGIN:VCALENDAR
VERSION:2.0
PRODID:-//jEvents 2.0 for Joomla//EN
CALSCALE:GREGORIAN
METHOD:PUBLISH
BEGIN:VEVENT
UID:8a2b549bc6e9b38bec9d7baea1ce2983
CATEGORIES:18. Bezirk
CREATED:19700101T010000
SUMMARY:Spielend durch die Jahreszeiten
LOCATION:Spielringel\, Mollgasse 11-13
DESCRIPTION:Spielend durch die Jahreszeitenfür Kinder ab 1 bis 2,5 Jahren (mit Begleitu
 ng)Wir spielen und basteln passend zur Jahreszeit!\nIn dieser Spielgruppe f
 ür Kleinkinder werden wir gemeinsam den Jahreskreis mit allen Sinnen erlebe
 n. Es wird der Jahreszeit entsprechend gebastelt, gewerkt, entdeckt und ges
 pielt. Natürlich bleibt auch genug Zeit und Raum für soziale Interaktionen 
 und Bewegungen.\nStart:  09.11.2022\nMit: Claudia (https://spielringel.at/a
 ngebote/das-team/claudia)\nKurstag:  Mittwoch 09:30-10:30\nTermine:  09.11.
 , 16.11., 23.11., 30.11.. 14.12.\nKosten:  €80,- (5-Wochen Kurs)\n   
X-ALT-DESC;FMTTYPE=text/html:<header class="frame-header"><h2 class="element-header ">Spielend durch die
  Jahreszeiten</h2><h4>für Kinder ab 1 bis 2,5 Jahren (mit Begleitung)</h4><
 div class="frame frame-default frame-type-textpic frame-layout-0 frame-back
 ground-none frame-no-backgroundimage frame-space-before-none frame-space-af
 ter-none"><div class="frame-container"><div class="frame-inner"><div class=
 "textpic textpic-right"><div class="textpic-item textpic-text"><p>Wir spiel
 en und basteln passend zur Jahreszeit!</p><p>In dieser Spielgruppe für Klei
 nkinder werden wir gemeinsam den Jahreskreis mit allen Sinnen erleben. Es w
 ird der Jahreszeit entsprechend gebastelt, gewerkt, entdeckt und gespielt. 
 Natürlich bleibt auch genug Zeit und Raum für soziale Interaktionen und Bew
 egungen.</p></div></div></div></div></div><div id="c800" class="frame frame
 -default frame-type-form_formframework frame-layout-0 frame-background-none
  frame-no-backgroundimage frame-space-before-none frame-space-after-none"><
 div class="frame-container"><div class="frame-inner"><div class="form-conta
 iner form-identifier-anmeldeformular-800"><form id="anmeldeformular-800" en
 ctype="multipart/form-data" method="post" novalidate="novalidate"><div><p><
 span class="text-primary font-weight-bold">Start: </span> 09.11.2022</p><p>
 <span class="text-primary font-weight-bold">Mit: </span><a href="https://sp
 ielringel.at/angebote/das-team/claudia">Claudia</a></p><p><span class="text
 -primary font-weight-bold">Kurstag: </span> Mittwoch 09:30-10:30</p><p><spa
 n class="text-primary font-weight-bold">Termine: </span> 09.11., 16.11., 23
 .11., 30.11.. 14.12.</p><p><span class="text-primary font-weight-bold">Kost
 en: </span> €80,- (5-Wochen Kurs)</p> </div><input id="anmeldeformular-800-
 oJxwUjnEmLtPKpC" style="position: absolute; margin: 0 0 0 -999em;" tabindex
 ="-1" autocomplete="oJxwUjnEmLtPKpC" name="tx_form_formframework[anmeldefor
 mular-800][oJxwUjnEmLtPKpC]" type="text" /><div class="form-actions"> </div
 ></form></div></div></div></div></header><div style="position: static !impo
 rtant;"> </div>
CONTACT:www.spielringel.at
X-EXTRAINFO:[preis='8000'][anmeldung='true']
DTSTAMP:20260423T172251
DTSTART:20221109T083000
DTEND:20221109T093000
SEQUENCE:0
TRANSP:OPAQUE
END:VEVENT
END:VCALENDAR