BEGIN:VCALENDAR
VERSION:2.0
PRODID:-//jEvents 2.0 for Joomla//EN
CALSCALE:GREGORIAN
METHOD:PUBLISH
BEGIN:VEVENT
UID:1758baac4bcc675bf01e8f1a0ea5ccff
CATEGORIES:18. Bezirk
CREATED:20221010T115230
SUMMARY:Sinnesspielgruppe für Kleinstkinder am Mittwoch
LOCATION:Spielringel\, Mollgasse 11-13
DESCRIPTION:<p>In unserer Sinnesspielgruppe entdecken die Kinder spielend viel Neues un
 d lernen dabei auch noch neue Freunde kennen. Die Sinne der Kinder werden m
 it Hilfe verschiedener Materialien spielerisch angeregt, es wird experiment
 iert und auch gebastelt. Achtsamkeit, Wahrnehmungsförderung und Sinnesschul
 ung stehen im Vordergrund! .</p><p><span class="text-primary font-weight-bo
 ld">Start: </span> 09.11.2022</p><p><span class="text-primary font-weight-b
 old">Mit: </span><a href="https://spielringel.at/angebote/das-team/claudia"
 >Claudia</a></p><p><span class="text-primary font-weight-bold">Kurstag: </s
 pan> Mittwoch 11:15-12:15</p><p><span class="text-primary font-weight-bold"
 >Termine: </span> 09.11., 16.11., 23.11., 30.11., 14.12.</p><p><span class=
 "text-primary font-weight-bold">Kosten: </span> €80,- (5-Wochen Kurs)</p>
CONTACT:www.spielringel.at
X-EXTRAINFO:[preis='8000'][anmeldung='true']
DTSTAMP:20260423T144307
DTSTART:20221116T101500
DTEND:20221116T111500
SEQUENCE:0
TRANSP:OPAQUE
END:VEVENT
END:VCALENDAR