BEGIN:VCALENDAR
VERSION:2.0
PRODID:-//jEvents 2.0 for Joomla//EN
CALSCALE:GREGORIAN
METHOD:PUBLISH
BEGIN:VEVENT
UID:b20e0f0e78c01c6d4db768b32ad96438
CATEGORIES:18. Bezirk
CREATED:20221010T121502
SUMMARY:Spielgruppe mit Musik für Babys
LOCATION:Spielringel\, Mollgasse 11-13
DESCRIPTION:<p>Es wird dem Alter und der Entwicklung der Babys entsprechend, gespielt, 
 gesungen, getanzt und musiziert. Musik fördert die Entwicklung von Babys: S
 ie ist gut für die Bewegungskoordination, die Sprachentwicklung, den Gleich
 gewichtssinn und die Bindung zur Bezugsperson. Das beste daran ist, dass es
  einfach Freude macht!</p><p><span class="text-primary font-weight-bold">St
 art: </span> 09.11.2022</p><p><span class="text-primary font-weight-bold">M
 it: </span><a href="https://spielringel.at/angebote/das-team/susanne">Susan
 ne</a></p><p><span class="text-primary font-weight-bold">Kurstag: </span> M
 ittwoch 14:00-14:45</p><p><span class="text-primary font-weight-bold">Termi
 ne: </span> 09.11., 16.11., 23.11., 30.11., 07.12.</p><p><span class="text-
 primary font-weight-bold">Kosten: </span> €75,-(5 Einheiten)</p>
CONTACT:www.spielringel.at
X-EXTRAINFO:[preis='7500'][anmeldung='true']
DTSTAMP:20260423T144412
DTSTART:20221207T130000
DTEND:20221207T134500
SEQUENCE:0
TRANSP:OPAQUE
END:VEVENT
END:VCALENDAR