BEGIN:VCALENDAR
VERSION:2.0
PRODID:-//jEvents 2.0 for Joomla//EN
CALSCALE:GREGORIAN
METHOD:PUBLISH
BEGIN:VEVENT
UID:f9ec9cb73b6297efc02c53337e59360e
CATEGORIES:18. Bezirk
CREATED:20221010T121612
SUMMARY:Spielgruppe mit Musik für Kleinkinder 
LOCATION:Spielringel\, Mollgasse 11-13
DESCRIPTION:Der Gruppenraum wird zum Erlebnis- und Bewegungsraum. In gemütlicher, kindg
 erechter Umgebung können neue Bekanntschaften geschlossen werden.\nJede Stu
 nde regen neue Spielimpulse zum Mitmachen an und geben Anreiz zur leichten 
 Umsetzung zu Hause.\nDein Kind hat die Möglichkeit sich frei in einer Grupp
 e Gleichaltriger zu bewegen und dich trotzdem immer als sicheren Hafen zur 
 Einkehr bei sich zu haben.\n Start:  09.11.2022\nMit: Susanne (https://spie
 lringel.at/angebote/das-team/susanne)\nKurstag:  Mittwoch 15:15-16:00\nTerm
 ine:  09.11., 16.11., 23.11., 30.11., 07.12.\nKosten:  €75,- (5-Wochen Kurs
 )\n 
X-ALT-DESC;FMTTYPE=text/html:<div class="frame frame-default frame-type-textpic frame-layout-0 frame-bac
 kground-none frame-no-backgroundimage frame-space-before-none frame-space-a
 fter-none"><div class="frame-container"><div class="frame-inner"><div class
 ="textpic textpic-right"><div class="textpic-item textpic-text"><p>Der Grup
 penraum wird zum Erlebnis- und Bewegungsraum. In gemütlicher, kindgerechter
  Umgebung können neue Bekanntschaften geschlossen werden.</p><p>Jede Stunde
  regen neue Spielimpulse zum Mitmachen an und geben Anreiz zur leichten Ums
 etzung zu Hause.</p><p>Dein Kind hat die Möglichkeit sich frei in einer Gru
 ppe Gleichaltriger zu bewegen und dich trotzdem immer als sicheren Hafen zu
 r Einkehr bei sich zu haben.</p></div></div></div></div></div><div id="c864
 " class="frame frame-default frame-type-form_formframework frame-layout-0 f
 rame-background-none frame-no-backgroundimage frame-space-before-none frame
 -space-after-none"><div class="frame-container"><div class="frame-inner"><d
 iv class="form-container form-identifier-anmeldeformular-864"><form id="anm
 eldeformular-864" enctype="multipart/form-data" method="post" novalidate="n
 ovalidate"><input id="anmeldeformular-864-WwvzCFp5eoa" style="position: abs
 olute; margin: 0 0 0 -999em;" tabindex="-1" autocomplete="WwvzCFp5eoa" name
 ="tx_form_formframework[anmeldeformular-864][WwvzCFp5eoa]" type="text" /><d
 iv class="form-actions"> <p><span class="text-primary font-weight-bold">Sta
 rt: </span> 09.11.2022</p><p><span class="text-primary font-weight-bold">Mi
 t: </span><a href="https://spielringel.at/angebote/das-team/susanne">Susann
 e</a></p><p><span class="text-primary font-weight-bold">Kurstag: </span> Mi
 ttwoch 15:15-16:00</p><p><span class="text-primary font-weight-bold">Termin
 e: </span> 09.11., 16.11., 23.11., 30.11., 07.12.</p><p><span class="text-p
 rimary font-weight-bold">Kosten: </span> €75,- (5-Wochen Kurs)</p></div></f
 orm></div></div></div></div><div style="position: static !important;"> </di
 v>
CONTACT:www.spielringel.at
X-EXTRAINFO:[preis='7500'][anmeldung='true']
DTSTAMP:20260423T162308
DTSTART:20221123T141500
DTEND:20221123T150000
SEQUENCE:0
TRANSP:OPAQUE
END:VEVENT
END:VCALENDAR