BEGIN:VCALENDAR
VERSION:2.0
PRODID:-//jEvents 2.0 for Joomla//EN
CALSCALE:GREGORIAN
METHOD:PUBLISH
BEGIN:VEVENT
UID:d6fb60e422f116ebd8aa1cf7441654e9
CATEGORIES:18. Bezirk
CREATED:20221010T121934
SUMMARY:Sinnesspielgruppe für Kleinstkinder
LOCATION:Spielringel\, Mollgasse 11-13
DESCRIPTION:Sinnesspielgruppe für Kleinstkindervon ca. 10 Monaten bis 2 JahreStart:  13
 .10.2022\nMit: Claudia (https://spielringel.at/angebote/das-team/claudia)\n
 Kurstag:  Donnerstag 09:30-10:30\nTermine:  13.10., 20.10., 03.11., 10.11.,
  17.11.\nKosten:  €80,- (5-Wochen Kurs)\nDer Mensch ist eine Sonne, seine S
 inne sind seine Planeten.\n Novalis\nIn unserer Sinnesspielgruppe entdecken
  die Kinder spielend viel Neues und lernen dabei auch noch neue Freunde ken
 nen. Die Sinne der Kinder werden mit Hilfe verschiedener Materialien spiele
 risch angeregt, es wird experimentiert und auch gebastelt. Achtsamkeit, Wah
 rnehmungsförderung und Sinnesschulung stehen im Vordergrund! .\nGenießt die
  Zeit beim gemeinsamen Spielen und Entdecken mit euren Kindern!\n
X-ALT-DESC;FMTTYPE=text/html:<header class="frame-header"><h2 class="element-header ">Sinnesspielgruppe 
 für Kleinstkinder</h2><h4>von ca. 10 Monaten bis 2 Jahre</h4><p><span class
 ="text-primary font-weight-bold">Start: </span> 13.10.2022</p><p><span clas
 s="text-primary font-weight-bold">Mit: </span><a href="https://spielringel.
 at/angebote/das-team/claudia">Claudia</a></p><p><span class="text-primary f
 ont-weight-bold">Kurstag: </span> Donnerstag 09:30-10:30</p><p><span class=
 "text-primary font-weight-bold">Termine: </span> 13.10., 20.10., 03.11., 10
 .11., 17.11.</p><p><span class="text-primary font-weight-bold">Kosten: </sp
 an> €80,- (5-Wochen Kurs)</p><p>Der Mensch ist eine Sonne, seine Sinne sind
  seine Planeten.<br /> Novalis</p><p>In unserer Sinnesspielgruppe entdecken
  die Kinder spielend viel Neues und lernen dabei auch noch neue Freunde ken
 nen. Die Sinne der Kinder werden mit Hilfe verschiedener Materialien spiele
 risch angeregt, es wird experimentiert und auch gebastelt. Achtsamkeit, Wah
 rnehmungsförderung und Sinnesschulung stehen im Vordergrund! .</p><p>Genieß
 t die Zeit beim gemeinsamen Spielen und Entdecken mit euren Kindern!</p></h
 eader>
CONTACT:www.spielringel.at
X-EXTRAINFO:[preis='8000'][anmeldung='true']
DTSTAMP:20260423T143946
DTSTART:20221027T073000
DTEND:20221027T083000
SEQUENCE:0
TRANSP:OPAQUE
END:VEVENT
END:VCALENDAR