BEGIN:VCALENDAR
VERSION:2.0
PRODID:-//jEvents 2.0 for Joomla//EN
CALSCALE:GREGORIAN
METHOD:PUBLISH
BEGIN:VEVENT
UID:6d880fe06df6c4e909bec8841f692b99
CATEGORIES:Wien Umgebung
CREATED:20221010T174419
SUMMARY:Familien Café beim Kasperl
LOCATION:Hauptstraße 40\, Mödling
DESCRIPTION:Jeden Mittwoch von 10 bis 12 Uhr gibt es im MÖP Spielraum die Möglichkeit, 
 das MÖP Foyer als Eltern-Kind-Café zu nutzen:\nEinige Familien haben das MÖ
 P bereits entdeckt, als einen Ort an dem man auch vormittags unter der Woch
 e, wenn der Kasperl Pause hat, vorbeischauen kann, um eine Tasse Tee oder K
 affee zu genießen, während die Kinder die bunte Kletterwand erklimmen, sich
  im gemütlichen Indoor-Spielehäuschen mit einem Buch in den Kinderfauteuil 
 kuscheln, oder über die Rutsche wieder ins Foyer hinuntersausen, wo jede Me
 nge Vorlesebücher, Spielsachen für die Kleinen, Weichklötzchen, Lego, Puzzl
 es oder Gesellschaftsspiele auf sie warten. Auch eine Auswahl an pädagogisc
 hen Büchern findet ihr in der kleinen Präsenzbibliothek. Ausreichend Platz 
 für Kinderwägen und angenehme Musik lassen in ungezwungener Atmosphäre ents
 pannt den Vormittag genießen, Erfahrungen austauschen, mit den Kindern spie
 len... Nun bieten wir offiziell einmal wöchentlich ein Eltern-Kind-Café an.
  Wir freuen uns auf euer Kommen!\n
X-ALT-DESC;FMTTYPE=text/html:<p>Jeden Mittwoch von 10 bis 12 Uhr gibt es im MÖP Spielraum die Möglichkei
 t, das MÖP Foyer als Eltern-Kind-Café zu nutzen:</p><p>Einige Familien habe
 n das MÖP bereits entdeckt, als einen Ort an dem man auch vormittags unter 
 der Woche, wenn der Kasperl Pause hat, vorbeischauen kann, um eine Tasse Te
 e oder Kaffee zu genießen, während die Kinder die bunte Kletterwand erklimm
 en, sich im gemütlichen Indoor-Spielehäuschen mit einem Buch in den Kinderf
 auteuil kuscheln, oder über die Rutsche wieder ins Foyer hinuntersausen, wo
  jede Menge Vorlesebücher, Spielsachen für die Kleinen, Weichklötzchen, Leg
 o, Puzzles oder Gesellschaftsspiele auf sie warten. Auch eine Auswahl an pä
 dagogischen Büchern findet ihr in der kleinen Präsenzbibliothek. Ausreichen
 d Platz für Kinderwägen und angenehme Musik lassen in ungezwungener Atmosph
 äre entspannt den Vormittag genießen, Erfahrungen austauschen, mit den Kind
 ern spielen... Nun bieten wir offiziell einmal wöchentlich ein Eltern-Kind-
 Café an. Wir freuen uns auf euer Kommen!</p>
CONTACT:+43 (0)2236 86 54 55
DTSTAMP:20260423T185738
DTSTART:20221019T080000
DTEND:20221019T100000
SEQUENCE:0
TRANSP:OPAQUE
END:VEVENT
END:VCALENDAR