BEGIN:VCALENDAR
VERSION:2.0
PRODID:-//jEvents 2.0 for Joomla//EN
CALSCALE:GREGORIAN
METHOD:PUBLISH
BEGIN:VEVENT
UID:82927610edcce69c2f900baeb1fd4d96
CATEGORIES:3. Bezirk
CREATED:20221016T125838
SUMMARY:Krabbelgruppe
LOCATION:Landstraßer Hauptstraße\, 1030 Wien
DESCRIPTION:<div style="text-align: justify;"><strong>Hallo liebe kleine Krabbelkäfer M
 amas und Papas</strong><br /><br />in der Krabbelkäfer Gruppe gibt es immer
  eine Menge zu entdecken, je nach Jahreszeit angepasst gibt es ein kleines 
 Programm und immer etwas neues zu entdecken.<br /><br />Oberste Priorität h
 aben die Wünsche und Bedürfnisse eurer Kinder und um darauf immer ganz indi
 viduell eingehen zu können findet der Krabbelkäfer Kurs in einer Kleinstgru
 ppe mit maximal 3-4 Kinder und ihrer Bezugsperson statt und ist geeignet fü
 r Kinder ab 8. Monaten bis maximal 2 Jahren.</div><div style="text-align: j
 ustify;">Die Kinder können sich frei im Raum bewegen, dabei unterschiedlich
 e Materialen kennenlernen und in ihrem eigenen Tempo Erfahrungen mit der Um
 gebung und Gleichaltrigen machen.<br /><br />Es gibt keine Erwartungshaltun
 g an eure Kinder, sie können erproben und ausprobieren, erkunden und testen
 , einander kennenlernen und Freude an der Bewegung haben, ganz ohne Einschr
 änkungen.</div><div> </div><div>Eine Anmeldung zur Krabbelkäfer Gruppe ist 
 unbedingt notwendig und kann mit nur wenigen Klicks über <a title="Kikudoo 
 Buchungsplattform" href="https://kikudoo.com/for-little-ones">https://kikud
 oo.com/for-little-ones</a> vorgenommen werden.</div><div> </div><div>Ich fr
 eue mich schon riesig auf eine entspannte, wunderschöne Zeit mit euch und e
 uren Kindern.</div><div> </div><div style="text-align: center;">Susanne</di
 v><div style="text-align: center;"><a href="http://www.for-little-ones.com"
 >www.for-little-ones.com</a></div><div style="text-align: center;"><a href=
 "mailto:office@for-little-ones.com">office@for-little-ones.com</a></div><di
 v style="text-align: center;">06801582648</div><div> </div><div> </div><div
 > </div>
CONTACT:for little ones
X-EXTRAINFO:[preis='5500'][anmeldung='true']
DTSTAMP:20260425T135747
DTSTART:20221103T100000
DTEND:20221222T110000
SEQUENCE:0
TRANSP:OPAQUE
END:VEVENT
END:VCALENDAR