BEGIN:VCALENDAR
VERSION:2.0
PRODID:-//jEvents 2.0 for Joomla//EN
CALSCALE:GREGORIAN
METHOD:PUBLISH
BEGIN:VEVENT
UID:b9e5f5029908fb245ac0353d1af4a1f3
CATEGORIES:8. Bezirk
CREATED:20221019T122844
SUMMARY:Schwangerschaftsyoga Kurs
LOCATION:Lederergasse 21\, 1080 Wien
DESCRIPTION:<p><strong>An alle Mamis-to-be!</strong></p><p>Du erwartest ein Baby und mö
 chtest diese schöne Zeit in vollen Zügen genießen?</p><p>Beim Yoga kannst d
 u deine Körperwahrnehmung intensivieren und dich auf diese besondere Situat
 ion voll und ganz einlassen. Nimm dir Zeit für dich und dein Baby und fühl 
 dich in deinem Körper so richtig wohl.</p><p>Die Einheit beginnen wir mit e
 iner kurzen Vorstellungsrunde zum Austausch der individuellen Bedürfnisse.<
 /p><p>Die nachfolgende Praxis ist körperstärkend und gibt dir die Möglichke
 it dich ganz mit deinem Körper zu verbinden. Dabei gehen wir liebevoll und 
 achtsam mit uns um.</p><p> </p><p><span style="text-decoration: underline;"
 ><strong>Termine:</strong></span> Dienstag 22.11. / 29.11. / 06.12./13.12. 
     </p><p><span style="text-decoration: underline;"><strong> Kurszeiten:</
 strong></span> 09:00-10:15</p><p><span style="text-decoration: underline;">
 <strong>Wo:</strong></span> @ Yogaria, Lederergasse 21, 1080 Wien</p><p><sp
 an style="text-decoration: underline;"><strong>Preis:</strong></span> € 75 
 (4 Termine)</p><p> </p><p><strong>Anmeldung: <a href="mailto:info@treehut-y
 oga.com">info@treehut-yoga.com</a> </strong></p><p><strong>                
      0664 / 1305017 (telefonisch od. whatsapp)</strong></p>
CONTACT:Treehut Yoga
X-EXTRAINFO:[preis='7500'][anmeldung='true']
DTSTAMP:20260423T082222
DTSTART:20221206T080000
DTEND:20221206T091500
SEQUENCE:0
TRANSP:OPAQUE
END:VEVENT
END:VCALENDAR