BEGIN:VCALENDAR
VERSION:2.0
PRODID:-//jEvents 2.0 for Joomla//EN
CALSCALE:GREGORIAN
METHOD:PUBLISH
BEGIN:VEVENT
UID:609ebf72103c67f3363be3ead3ad3418
CATEGORIES:8. Bezirk
CREATED:20221019T123414
SUMMARY:Mama Baby Rückbildungsyoga
LOCATION:Lederergasse 21\, 1080 Wien
DESCRIPTION:An alle Neo Mamis!\nFür alle die sich nach der Geburt ihres Babys schon wie
 der fit genug für etwas Bewegung fühlen.\nDurch angepasste Yogaübungen wird
  dein Körper gestärkt und bei der Rückbildung unterstützt.\nJede Einheit be
 ginnt mit einem kurzen Austausch, um so eventuelle Beschwerden oder Problem
 e besser berücksichtigen zu können. Hier soll den frisch gebackenen Mamis i
 n einer vertrauenswürdigen Atmosphäre auch die Möglichkeit für Interaktion 
 geboten werden.\nBei der nachfolgenden Praxis steht die Bewegung der Mamis 
 und die Stärkung des Beckenbodens im Mittelpunkt, wobei den Bedürfnissen de
 r Babys viel Platz eingeräumt wird. Danach fühlst du dich vitaler und berei
 t für einen energiegeladenen Tag mit den „Kleinen“.\nTermine: Dienstag 22.1
 1. / 29.11. / 06.12. / 13.12.\nKurszeiten: 10:30-11:45\nWo: @ Yogaria, Lede
 rergasse 21, 1080 Wien\nPreis: € 75 (4 Termine)\nAnmeldung: info@treehut-yo
 ga.com (mailto:info@treehut-yoga.com)\n                  0664 1305017 (tele
 fonisch oder whatsapp)\n
X-ALT-DESC;FMTTYPE=text/html:<p><strong>An alle Neo Mamis!</strong></p><p>Für alle die sich nach der Geb
 urt ihres Babys schon wieder fit genug für etwas Bewegung fühlen.</p><p>Dur
 ch angepasste Yogaübungen wird dein Körper gestärkt und bei der Rückbildung
  unterstützt.</p><p>Jede Einheit beginnt mit einem kurzen Austausch, um so 
 eventuelle Beschwerden oder Probleme besser berücksichtigen zu können. Hier
  soll den frisch gebackenen Mamis in einer vertrauenswürdigen Atmosphäre au
 ch die Möglichkeit für Interaktion geboten werden.</p><p>Bei der nachfolgen
 den Praxis steht die Bewegung der Mamis und die Stärkung des Beckenbodens i
 m Mittelpunkt, wobei den Bedürfnissen der Babys viel Platz eingeräumt wird.
  Danach fühlst du dich vitaler und bereit für einen energiegeladenen Tag mi
 t den „Kleinen“.</p><p><span style="text-decoration: underline;"><strong>Te
 rmine:</strong></span> Dienstag 22.11. / 29.11. / 06.12. / 13.12.</p><p><sp
 an style="text-decoration: underline;"><strong>Kurszeiten:</strong></span> 
 10:30-11:45</p><p><span style="text-decoration: underline;"><strong>Wo:</st
 rong></span> @ Yogaria, Lederergasse 21, 1080 Wien</p><p><span style="text-
 decoration: underline;"><strong>Preis:</strong></span> € 75 (4 Termine)</p>
 <p><strong>Anmeldung:</strong> <a href="mailto:info@treehut-yoga.com">info@
 treehut-yoga.com</a></p><p>                  <strong>0664 1305017 (telefoni
 sch oder whatsapp)</strong></p>
CONTACT:Treehut Yoga
X-EXTRAINFO:[preis='7500'][anmeldung='true']
DTSTAMP:20260423T093931
DTSTART:20221213T093000
DTEND:20221213T114500
SEQUENCE:0
TRANSP:OPAQUE
END:VEVENT
END:VCALENDAR