BEGIN:VCALENDAR
VERSION:2.0
PRODID:-//jEvents 2.0 for Joomla//EN
CALSCALE:GREGORIAN
METHOD:PUBLISH
BEGIN:VEVENT
UID:89d61e137c2f77c9980de68e30346e89
CATEGORIES:14. Bezirk
CREATED:20221125T152603
SUMMARY:Babytreff
LOCATION:Leegasse 10/21\, 1140 Wien
DESCRIPTION:<h1>Babytreff</h1><p>Wann: jeden Montag von 10:00 bis 11:30</p><p>Wo: Leega
 sse 10/21, 1140 Wien</p><p>Kosten: 12€ pro Einzeleinheit, 55€ pro 5er Block
 , 100€ pro 10er Block</p><p> </p><p>Der Babytreff ist ein Ort für Mamas und
  Papas mit deren Babys und für werdende Eltern, die sich über die verschied
 ensten Themen des Eltern- und Babydaseins in den ersten zwei Lebensjahren a
 ustauschen möchten. Ob der Hunger durch die Brust oder die Flasche gestillt
  wird, das Baby gerade schläft, spielt oder seine Umwelt beobachtet - alle 
 sind herzlich willkommen!<br />Das Treffen wird durch mich begleitet und ic
 h stehe stets mit Rat und Tat zur Seite. An manchen Terminen werden zusätzl
 ich Experten und Expertinnen eingeladen, die in ihrem Spezialgebiet kurze V
 orträge zu ausgewählten Themen halten werden. Durch diese Gestaltung soll e
 in reger Austausch stattfinden, um uns gegenseitig zu bestärken, Ideen zu g
 eben und Unterstützung zu bieten bei den Fragen, die uns in unserem Alltag 
 mit Kind auftauchen. Dabei ist es egal ob wir den Ereignissen freudig oder 
 ängstlich entgegenblicken. Parallel zu diesem wertvollen Austausch wird fac
 hliches Wissen näher gebracht. </p><p>Für ein gemütliches Beisammensein im 
 Kreis dürfen natürlich Obst, Snacks, Kaffee &amp; Tee nicht fehlen - auch h
 ier ist also für euch gesorgt! Und damit es auch für die Babys eine schöne 
 Zeit ist bekommt ihr zwischendurch immer wieder Spielanregungen :)<br /><br
  />Mögliche Themen</p><ul><li>Entwicklung des Babys</li><li>Pflege und Pfle
 geprodukte</li><li>Kleidung</li><li>Ernährung des Säuglings</li><li>Stillhi
 lfsmittel</li><li>Beikost</li><li>Zahnen</li><li>Schlaf und Familienbett</l
 i><li>Tragen</li><li>Babymassag</li></ul><p><br />Die Themen des jeweiligen
  Treffens sind lediglich ein Angebot, euer aktuelles Anliegen hat immer Vor
 rang.<br /><br />Während der Babygruppe steht eine Babywaage zur Verfügung,
  im Bedarfsfall können in diesem Treffen Gewichtskontrollen durchgeführt we
 rden.</p><p> </p><p> </p>
CONTACT:kontakt@neugeborgen.at
X-EXTRAINFO:[preis='1200'][anmeldung='true']
DTSTAMP:20260423T111455
DTSTART:20221205T090000
DTEND:20221205T103000
SEQUENCE:0
TRANSP:OPAQUE
END:VEVENT
END:VCALENDAR