BEGIN:VCALENDAR
VERSION:2.0
PRODID:-//jEvents 2.0 for Joomla//EN
CALSCALE:GREGORIAN
METHOD:PUBLISH
BEGIN:VEVENT
UID:855da41c61732176c5c64ed13a7bffaa
CATEGORIES:18. Bezirk
CREATED:20221212T104750
SUMMARY:Sinnesspielgruppe für Kleinstkinder
LOCATION:Spielringel\, Mollgasse 11-13
DESCRIPTION:<p>Der Mensch ist eine Sonne, seine Sinne sind seine Planeten.<br /> Novali
 s</p><p>In unserer Sinnesspielgruppe entdecken die Kinder spielend viel Neu
 es und lernen dabei auch noch neue Freunde kennen. Die Sinne der Kinder wer
 den mit Hilfe verschiedener Materialien spielerisch angeregt, es wird exper
 imentiert und auch gebastelt. Achtsamkeit, Wahrnehmungsförderung und Sinnes
 schulung stehen im Vordergrund! .</p><p>Genießt die Zeit beim gemeinsamen S
 pielen und Entdecken mit euren Kindern!</p><p><span class="text-primary fon
 t-weight-bold">Kurstag: </span> Donnerstag 09:30-10:30</p><p><span class="t
 ext-primary font-weight-bold">Termine: </span> 15.12., 22.12., 12.01., 19.0
 1., 26.01.</p><p><span class="text-primary font-weight-bold">Kosten: </span
 > €80,- (5-Wochen Kurs)</p>
CONTACT:www.spielringel.at
X-EXTRAINFO:[preis='8000'][anmeldung='true']
DTSTAMP:20260423T144410
DTSTART:20221215T083000
DTEND:20221215T093000
SEQUENCE:0
TRANSP:OPAQUE
END:VEVENT
END:VCALENDAR