BEGIN:VCALENDAR
VERSION:2.0
PRODID:-//jEvents 2.0 for Joomla//EN
CALSCALE:GREGORIAN
METHOD:PUBLISH
BEGIN:VEVENT
UID:50c8270fdb132e74dcc7b417995a056b
CATEGORIES:12. Bezirk
CREATED:20250702T124717
SUMMARY:Anmeldestart: Zahlen - Zählen - Rechnen: Mathematik für Kindergartenkinder
LOCATION:Flurschützstraße 5/1/1\, 1120 Wien
DESCRIPTION: \nANMELDESTART!\nDer Kurs selber beginnt am 04. August und findet täglich 
 bis zum 08.08.2025 statt, jeweils von 09.00-10.00.\nWir erforschen die Zahl
 en, das Zählen und die Grundrechenarten. Wuppi - unser außerirdischer Freun
 d - begleitet uns nicht nur auf unserer Reise durch den Zahlenraum, sondern
  er bringt uns auch viel über das Lernen-lernen bei.\n \nWir spielen und le
 rnen in einer kleinen Gruppe von max. 6 Kindern und 2 Erwachsenen (Traineri
 n und Co-Trainer). So wird jedes Kind individuell gefördert!\n \n \nBei fre
 ien Plätzen werden auch ErstklässlerInnen aufgenommen.\n \nKursstart verpas
 st? Der nächste Zahlenkurs beginnt am 23.09.2025 und dauert bis 02.12.2025.
 \n \nWir freuen uns auf dich!\n \nMehr Informationen und weitere Kurse auf 
 www.hochbegabung.wien (https://www.hochbegabung.wien)\n \nSchnuppertermine 
 sind bei freien Kursplätzen nach Rücksprache möglich. Geschwisterkinder zah
 len 15% weniger.\n \n
X-ALT-DESC;FMTTYPE=text/html:<p>&nbsp;</p><p><strong>ANMELDESTART!</strong></p><p><strong>Der Kurs selbe
 r beginnt am 04. August und findet täglich bis zum 08.08.2025 statt, jeweil
 s von 09.00-10.00.</strong></p><p>Wir erforschen die Zahlen, das Zählen und
  die Grundrechenarten.&nbsp;Wuppi - unser außerirdischer Freund - begleitet
  uns nicht nur auf unserer Reise durch den Zahlenraum, sondern er bringt un
 s auch viel über das Lernen-lernen bei.</p><p>&nbsp;</p><p>Wir spielen und 
 lernen in einer kleinen Gruppe von max. 6 Kindern und 2 Erwachsenen (Traine
 rin und Co-Trainer). So wird jedes Kind individuell gefördert!</p><p>&nbsp;
 </p><p>&nbsp;</p><p>Bei freien Plätzen werden auch ErstklässlerInnen aufgen
 ommen.</p><p>&nbsp;</p><p>Kursstart verpasst? <strong>Der nächste Zahlenkur
 s</strong> beginnt am <strong>23.09.2025&nbsp;</strong>und dauert bis<stron
 g>&nbsp;02.12.2025</strong>.</p><p>&nbsp;</p><p>Wir freuen uns auf dich!</p
 ><p>&nbsp;</p><p>Mehr Informationen und weitere Kurse auf <a href="https://
 www.hochbegabung.wien">www.hochbegabung.wien</a></p><p>&nbsp;</p><p><strong
 >Schnuppertermine</strong> sind bei freien Kursplätzen nach Rücksprache mög
 lich. Geschwisterkinder zahlen 15% weniger.</p><p>&nbsp;</p>
CONTACT:birgit.hartel@hochbegabung.wien
X-EXTRAINFO:[preis='15500'][anmeldung='true']
DTSTAMP:20260424T211213
DTSTART:20250703T070000
DTEND:20250703T080000
SEQUENCE:0
TRANSP:OPAQUE
END:VEVENT
END:VCALENDAR