BEGIN:VCALENDAR
VERSION:2.0
PRODID:-//jEvents 2.0 for Joomla//EN
CALSCALE:GREGORIAN
METHOD:PUBLISH
BEGIN:VEVENT
UID:ba76c6629f8f5c2fdd9f39c3355b4662
CATEGORIES:10. Bezirk
CREATED:20250716T140204
SUMMARY:Elementares Musizieren 
LOCATION:Wien
DESCRIPTION:Voranmeldungen ab jetzt möglich.\n
X-ALT-DESC;FMTTYPE=text/html:<p>Voranmeldungen ab jetzt möglich.</p>
CONTACT:http://susanne.kobald.com/ (http://susanne.kobald.com/)
X-EXTRAINFO:[preis='9100'][anmeldung='true']
DTSTAMP:20260425T003518
DTSTART;VALUE=DATE:20250909
DTEND;VALUE=DATE:20251129
SEQUENCE:0
TRANSP:OPAQUE
END:VEVENT
END:VCALENDAR