BEGIN:VCALENDAR
VERSION:2.0
PRODID:-//jEvents 2.0 for Joomla//EN
CALSCALE:GREGORIAN
METHOD:PUBLISH
BEGIN:VEVENT
UID:2f6de9a71935644665bdf45d1062bdde
CATEGORIES:23. Bezirk
CREATED:20250728T131722
SUMMARY:Eltern-Kind-Tanzwerkstatt (3-5 Jahre)
LOCATION:VHS Liesing\, Liesinger Platz 3
DESCRIPTION:<p>25591326a Eltern-Kind-Tanzwerkstatt (3-5 Jahre)</p><p>Mi 6x, 01.10.-05.1
 1.2025, 15-16 Uhr</p><p>VHS Liesing</p><p>Paulina Zmuda, MA, MA</p><p>Gebüh
 r: 49 €</p><p>Eine bunte Mischung aus Kreistänzen, Tanz- und anderen Bewegu
 ngsspielen bietet Kindern und Eltern die Gelegenheit, gemeinsam neue Bewegu
 ngsmöglichkeiten zu entdecken und auszuprobieren. Koordination und Rhythmus
 gefühl werden gefördert, während Groß und Klein gemeinsam die Freude am Bew
 egen und an der Musik genießen.</p><p>&nbsp;</p><p>Bitte um persönliche ode
 r telefonische Buchung des Unterrichts unter 01 / 89 174 123 000 oder eine 
 Buchung per Mail an liesing@vhs.at</p><p>Termine:</p><p>01.10.2025, 15:00:0
 0 - 16:00:00</p><p>08.10.2025, 15:00:00 - 16:00:00</p><p>15.10.2025, 15:00:
 00 - 16:00:00</p><p>22.10.2025, 15:00:00 - 16:00:00</p><p>29.10.2025, 15:00
 :00 - 16:00:00</p><p>05.11.2025, 15:00:00 - 16:00:00</p>
CONTACT:liesing@vhs.at, +43-1-89174-123000
X-EXTRAINFO:[preis='4900'][anmeldung='true']
DTSTAMP:20260425T104145
DTSTART:20251001T130000
DTEND:20251105T150000
SEQUENCE:0
TRANSP:OPAQUE
END:VEVENT
END:VCALENDAR