BEGIN:VCALENDAR
VERSION:2.0
PRODID:-//jEvents 2.0 for Joomla//EN
CALSCALE:GREGORIAN
METHOD:PUBLISH
BEGIN:VEVENT
UID:6b1c1cc8f97b887962becea89a39f5c7
CATEGORIES:18. Bezirk
CREATED:20250728T143418
SUMMARY:Spielgruppe mit Musik für Babys
LOCATION:Spielringel  Mollgasse  11-13
DESCRIPTION:Spielgruppe mit Musik für Babys für Babys (6-12 Monate)Mit: Susanne (https:
 //spielringel.at/angebote/das-team/susanne)\nKurstag: Dienstag 14:00-14:45\
 nTermine: 09.09., 16.09., 23.09., 07.10., 14.10.\nKosten: €90,- (5 Einheite
 n)\n„Musikalität ist vor allem die Fähigkeit von Musik berührt zu werden."\
 nEs wird dem Alter und der Entwicklung der Babys entsprechend, gespielt, ge
 sungen, getanzt und musiziert. Musik fördert die Entwicklung von Babys: Sie
  ist gut für die Bewegungskoordination, die Sprachentwicklung, den Gleichge
 wichtssinn und die Bindung zur Bezugsperson. Das beste daran ist, dass es e
 infach Freude macht!\n
X-ALT-DESC;FMTTYPE=text/html:<h2 class="element-header" style="box-sizing: border-box; margin-top: 0px; 
 margin-bottom: 0.5rem; font-family: Montserrat; font-weight: 300; line-heig
 ht: 1.2; font-size: 2.275rem; color: #2b2b2b;">Spielgruppe mit Musik für Ba
 bys&nbsp;</h2><h4 style="box-sizing: border-box; margin-top: 0px; margin-bo
 ttom: 1rem; font-family: Montserrat; font-weight: 300; line-height: 1.2; fo
 nt-size: 1.625rem; color: #2b2b2b;">für Babys (6-12 Monate)</h4><p style="b
 ox-sizing: border-box; margin-top: 0px; margin-bottom: 1rem; color: #2b2b2b
 ; font-family: Roboto; font-size: 16px;"><span class="text-primary font-wei
 ght-bold" style="box-sizing: border-box; font-weight: 700 !important; color
 : #158795 !important;">Mit:&nbsp;</span><a href="https://spielringel.at/ang
 ebote/das-team/susanne" style="box-sizing: border-box; color: #158795; text
 -decoration-line: none; background-color: transparent;">Susanne</a></p><p s
 tyle="box-sizing: border-box; margin-top: 0px; margin-bottom: 1rem; color: 
 #2b2b2b; font-family: Roboto; font-size: 16px;"><span class="text-primary f
 ont-weight-bold" style="box-sizing: border-box; font-weight: 700 !important
 ; color: #158795 !important;">Kurstag:&nbsp;</span>Dienstag 14:00-14:45</p>
 <p style="box-sizing: border-box; margin-top: 0px; margin-bottom: 1rem; col
 or: #2b2b2b; font-family: Roboto; font-size: 16px;"><span class="text-prima
 ry font-weight-bold" style="box-sizing: border-box; font-weight: 700 !impor
 tant; color: #158795 !important;">Termine:&nbsp;</span>09.09., 16.09., 23.0
 9., 07.10., 14.10.</p><p style="box-sizing: border-box; margin-top: 0px; ma
 rgin-bottom: 1rem; color: #2b2b2b; font-family: Roboto; font-size: 16px;"><
 span class="text-primary font-weight-bold" style="box-sizing: border-box; f
 ont-weight: 700 !important; color: #158795 !important;">Kosten:&nbsp;</span
 >€90,- (5 Einheiten)</p><p style="box-sizing: border-box; margin-top: 0px; 
 margin-bottom: 1rem; color: #2b2b2b; font-family: Roboto; font-size: 16px;"
 >„Musikalität ist vor allem die Fähigkeit von Musik berührt zu werden."</p>
 <p style="box-sizing: border-box; margin-top: 0px; margin-bottom: 0px; colo
 r: #2b2b2b; font-family: Roboto; font-size: 16px;">Es wird dem Alter und de
 r Entwicklung der Babys entsprechend, gespielt, gesungen, getanzt und musiz
 iert. Musik fördert die Entwicklung von Babys: Sie ist gut für die Bewegung
 skoordination, die Sprachentwicklung, den Gleichgewichtssinn und die Bindun
 g zur Bezugsperson. Das beste daran ist, dass es einfach Freude macht!</p>
CONTACT:www.spielringel.at
X-EXTRAINFO:[preis='9000'][anmeldung='true']
DTSTAMP:20260425T133957
DTSTART:20251007T120000
DTEND:20251007T124500
SEQUENCE:0
TRANSP:OPAQUE
END:VEVENT
END:VCALENDAR