BEGIN:VCALENDAR
VERSION:2.0
PRODID:-//jEvents 2.0 for Joomla//EN
CALSCALE:GREGORIAN
METHOD:PUBLISH
BEGIN:VEVENT
UID:196589217762a9f1d2a70992f4ceca5d
CATEGORIES:23. Bezirk
CREATED:20250801T085449
SUMMARY:Elementares Musizieren (10-18 Monate + Begleitung) 
LOCATION:VHS Erlaa\, Putzendoplergasse 4\, 1230 Wien
DESCRIPTION:Nach dem Kurs ist die Freude an der Musik von Eltern und Kindern geweckt. I
 hr Kind hat musikalisches Neuland erforscht und kreative Zugänge zur Musik 
 und zur Welt entdeckt, seine Sprachkompetenzen wurden gefördert. Sie selbst
  haben Ihre eigenen musikalischen Fähigkeiten (wieder-)entdeckt und entfalt
 et. Sie können die neuen Impulse und Anregungen für das gemeinsame Musikerl
 eben zu Hause nützen.\nLink zur Anmeldung: https://www.vhs.at/de/k/28572628
 6 (https://www.vhs.at/de/k/285726286)\n
X-ALT-DESC;FMTTYPE=text/html:<p>Nach dem Kurs ist die Freude an der Musik von Eltern und Kindern geweckt
 . Ihr Kind hat musikalisches Neuland erforscht und kreative Zugänge zur Mus
 ik und zur Welt entdeckt, seine Sprachkompetenzen wurden gefördert. Sie sel
 bst haben Ihre eigenen musikalischen Fähigkeiten (wieder-)entdeckt und entf
 altet. Sie können die neuen Impulse und Anregungen für das gemeinsame Musik
 erleben zu Hause nützen.</p><p>Link zur Anmeldung: <a href="https://www.vhs
 .at/de/k/285726286">https://www.vhs.at/de/k/285726286</a></p>
CONTACT:erlaa@vhs.at oder 01 / 89 174 123 302
X-EXTRAINFO:[preis='5000'][anmeldung='true']
DTSTAMP:20260425T103559
DTSTART:20251022T073000
DTEND:20251022T083000
SEQUENCE:0
TRANSP:OPAQUE
END:VEVENT
END:VCALENDAR