BEGIN:VCALENDAR
VERSION:2.0
PRODID:-//jEvents 2.0 for Joomla//EN
CALSCALE:GREGORIAN
METHOD:PUBLISH
BEGIN:VEVENT
UID:a5c3a386ab216b8d12c4b5a4ae44b162
CATEGORIES:23. Bezirk
CREATED:20250801T085736
SUMMARY:Elementares Musizieren (1,5 - 3 Jahre + Begleitung) 
LOCATION:VHS Erlaa\, Putzendoplergasse 4\, 1230 Wien
DESCRIPTION:<p>Nach dem Kurs ist die Freude an der Musik von Eltern und Kindern geweckt
 . Ihr Kind hat musikalisches Neuland erforscht und kreative Zugänge zur Mus
 ik und zur Welt entdeckt, seine Sprachkompetenzen wurden gefördert. Sie sel
 bst haben Ihre eigenen musikalischen Fähigkeiten (wieder-)entdeckt und entf
 altet. Sie können die neuen Impulse und Anregungen für das gemeinsame Musik
 erleben zu Hause nützen.</p><p>Link zur Anmeldung: <a href="https://www.vhs
 .at/de/k/285726288">https://www.vhs.at/de/k/285726288</a></p>
CONTACT:erlaa@vhs.at oder 01 / 89 174 123 302
X-EXTRAINFO:[preis='5000'][anmeldung='true']
DTSTAMP:20260425T153929
DTSTART:20251105T093000
DTEND:20251105T103000
SEQUENCE:0
TRANSP:OPAQUE
END:VEVENT
END:VCALENDAR