BEGIN:VCALENDAR
VERSION:2.0
PRODID:-//jEvents 2.0 for Joomla//EN
CALSCALE:GREGORIAN
METHOD:PUBLISH
BEGIN:VEVENT
UID:d5bd1b837c859c5b875f45fe3fb53dc0
CATEGORIES:23. Bezirk
CREATED:20250801T094340
SUMMARY:Babyturnen (5-15 Monate)
LOCATION:VHS Erlaa\, Putzendoplergasse 4\, 1230 Wien
DESCRIPTION:Ziel des Babyturnens ist es, die Babys mit einfachen, spielerischen Übungen
  in ihrer Bewegungsentwicklung zu fördern. Gleichzeitig werden die Sinne ge
 schärft und die Körperwahrnehmung positiv beeinflusst. Vor allem aber solle
 n Kinder und Eltern Spaß an der gemeinsamen Bewegung haben.\nLink zur Anmel
 dung: https://www.vhs.at/de/k/285726205 (https://www.vhs.at/de/k/285726205)
 \n
X-ALT-DESC;FMTTYPE=text/html:<p>Ziel des Babyturnens ist es, die Babys mit einfachen, spielerischen Übun
 gen in ihrer Bewegungsentwicklung zu fördern. Gleichzeitig werden die Sinne
  geschärft und die Körperwahrnehmung positiv beeinflusst. Vor allem aber so
 llen Kinder und Eltern Spaß an der gemeinsamen Bewegung haben.</p><p>Link z
 ur Anmeldung: <a href="https://www.vhs.at/de/k/285726205">https://www.vhs.a
 t/de/k/285726205</a></p>
CONTACT:erlaa@vhs.at oder 01 / 89 174 123 302
X-EXTRAINFO:[preis='4900'][anmeldung='true']
DTSTAMP:20260425T103436
DTSTART:20251029T130000
DTEND:20251029T140000
SEQUENCE:0
TRANSP:OPAQUE
END:VEVENT
END:VCALENDAR