BEGIN:VCALENDAR
VERSION:2.0
PRODID:-//jEvents 2.0 for Joomla//EN
CALSCALE:GREGORIAN
METHOD:PUBLISH
BEGIN:VEVENT
UID:887fabc48b82792bb4cc5f0295ddf1b8
CATEGORIES:23. Bezirk
CREATED:20250801T094614
SUMMARY:Rückbildungsgymnastik für Frauen mit Baby (2-8 Monate)
LOCATION:VHS Erlaa\, Putzendoplergasse 4\, 1230 Wien
DESCRIPTION:Mit den sanften Übungen der Rückbildungsgymnastik wird der Beckenboden gest
 ärkt und die Rücken- und Bauchmuskulatur trainiert. Entspannungselemente tr
 agen zum körperlichen und seelischen Wohlbefinden bei. Zusätzlich gibt die 
 Möglichkeit zumErfahrungsaustausch mit anderen Müttern mehr Sicherheit in d
 er neuen Lebensphase. Voraussetzung für die Teilnahme: Abklärung mit Arzt b
 zw. Ärztin.\nDie Bezahlung mit AK-Bildungsgutschein ist möglich. \nDer AK-G
 utschein kann telefonisch und kostenfrei unter der Nummer 0800 311 311 bei 
 der Arbeiterkammer Wien bestellt werden.\nLink zur Anmeldung: https://www.v
 hs.at/de/k/285725613\n
X-ALT-DESC;FMTTYPE=text/html:<p>Mit den sanften Übungen der Rückbildungsgymnastik wird der Beckenboden g
 estärkt und die Rücken- und Bauchmuskulatur trainiert. Entspannungselemente
  tragen zum körperlichen und seelischen Wohlbefinden bei. Zusätzlich gibt d
 ie Möglichkeit zumErfahrungsaustausch mit anderen Müttern mehr Sicherheit i
 n der neuen Lebensphase. Voraussetzung für die Teilnahme: Abklärung mit Arz
 t bzw. Ärztin.<br />Die Bezahlung mit AK-Bildungsgutschein ist möglich. <br
  />Der AK-Gutschein kann telefonisch und kostenfrei unter der Nummer 0800 3
 11 311 bei der Arbeiterkammer Wien bestellt werden.</p><p>Link zur Anmeldun
 g: <a href="https://www.vhs.at/de/k/285725613">https://www.vhs.at/de/k/2857
 25613</a></p>
CONTACT:erlaa@vhs.at oder 01 / 89 174 123 302
X-EXTRAINFO:[preis='4900'][anmeldung='true']
DTSTAMP:20260425T103522
DTSTART:20251013T090000
DTEND:20251013T100000
SEQUENCE:0
TRANSP:OPAQUE
END:VEVENT
END:VCALENDAR