BEGIN:VCALENDAR
VERSION:2.0
PRODID:-//jEvents 2.0 for Joomla//EN
CALSCALE:GREGORIAN
METHOD:PUBLISH
BEGIN:VEVENT
UID:c38817eab49fa631ec0d9ad9a2eb29da
CATEGORIES:15. Bezirk
CREATED:20250819T093149
SUMMARY:Babytreff für Eltern mit Babys im ersten Lebensjahr
LOCATION:VHS Rudolfsheim-Fünfhaus
DESCRIPTION:Während sich die kleinen Kursteilnehmenden in einer netten Bewegungslandsch
 aft, angelehnt an Montessori- und Pikler-Pädagogik, ausprobieren und entdec
 ken können, bleibt genügend Zeit für einen ungezwungenen Austausch zwischen
  den Eltern und der Kursleitung, die als ausgebildete Mütterpflegerin und z
 weifache Mama allerlei Themen rund ums erste Jahr mit Baby aufgreifen kann.
 \n
X-ALT-DESC;FMTTYPE=text/html:<p>Während sich die kleinen Kursteilnehmenden in einer netten Bewegungsland
 schaft, angelehnt an Montessori- und Pikler-Pädagogik, ausprobieren und ent
 decken können, bleibt genügend Zeit für einen ungezwungenen Austausch zwisc
 hen den Eltern und der Kursleitung, die als ausgebildete Mütterpflegerin un
 d zweifache Mama allerlei Themen rund ums erste Jahr mit Baby aufgreifen ka
 nn.</p>
CONTACT:01/891 74 115 000
X-EXTRAINFO:[preis='5700'][anmeldung='true']
DTSTAMP:20260425T103417
DTSTART:20251027T083000
DTEND:20251027T093000
SEQUENCE:0
TRANSP:OPAQUE
END:VEVENT
END:VCALENDAR