BEGIN:VCALENDAR
VERSION:2.0
PRODID:-//jEvents 2.0 for Joomla//EN
CALSCALE:GREGORIAN
METHOD:PUBLISH
BEGIN:VEVENT
UID:6f4556dd970287d1ad80f3d472d765c3
CATEGORIES:15. Bezirk
CREATED:20250819T094110
SUMMARY:Rückbildungsgymnastik für Frauen (mit Babys bis ca. 6 Monate)
LOCATION:VHS Rudolfsheim-Fünfhaus
DESCRIPTION:Mit den sanften Übungen der Rückbildungsgymnastik wird der Beckenboden gest
 ärkt und die Rücken- und Bauchmuskulatur trainiert. Entspannungselemente tr
 agen zum körperlichen und seelischen Wohlbefinden bei. Zusätzlich gibt die 
 Möglichkeit zum Erfahrungsaustausch mit anderen Müttern mehr Sicherheit in 
 der neuen Lebensphase. Voraussetzung für die Teilnahme: Abklärung mit Arzt 
 bzw. Ärztin.\nFr 7x, 26.9.-7.11.2025, 9:30-11 Uhr\n
X-ALT-DESC;FMTTYPE=text/html:<p>Mit den sanften Übungen der Rückbildungsgymnastik wird der Beckenboden g
 estärkt und die Rücken- und Bauchmuskulatur trainiert. Entspannungselemente
  tragen zum körperlichen und seelischen Wohlbefinden bei. Zusätzlich gibt d
 ie Möglichkeit zum Erfahrungsaustausch mit anderen Müttern mehr Sicherheit 
 in der neuen Lebensphase. Voraussetzung für die Teilnahme: Abklärung mit Ar
 zt bzw. Ärztin.</p><p>Fr 7x, 26.9.-7.11.2025, 9:30-11 Uhr</p>
CONTACT:01/891 74 115 000
X-EXTRAINFO:[preis='8500'][anmeldung='true']
DTSTAMP:20260425T121337
DTSTART:20251024T073000
DTEND:20251024T090000
SEQUENCE:0
TRANSP:OPAQUE
END:VEVENT
END:VCALENDAR