BEGIN:VCALENDAR
VERSION:2.0
PRODID:-//jEvents 2.0 for Joomla//EN
CALSCALE:GREGORIAN
METHOD:PUBLISH
BEGIN:VEVENT
UID:3c40968e04b42327e27bc5bfd7135865
CATEGORIES:15. Bezirk
CREATED:20250819T094303
SUMMARY:Pilates für Eltern mit Baby
LOCATION:VHS Rudolfsheim-Fünfhaus
DESCRIPTION:Pilates eignet sich sehr gut, um nach der Geburt wieder in Form zu kommen. 
 Im Mittelpunkt des Trainings stehen sowohl die Aktivierung des Beckenbodens
 , als auch die Kräftigung der Bauch- und Rückenmuskulatur. Das Baby kann in
  die Übungen miteinbezogen werden.\nMi 7x, 1.10.12.11.2025, 9:30-10:30 Uhr\
 n
X-ALT-DESC;FMTTYPE=text/html:<p>Pilates eignet sich sehr gut, um nach der Geburt wieder in Form zu komme
 n. Im Mittelpunkt des Trainings stehen sowohl die Aktivierung des Beckenbod
 ens, als auch die Kräftigung der Bauch- und Rückenmuskulatur. Das Baby kann
  in die Übungen miteinbezogen werden.</p><p>Mi 7x, 1.10.12.11.2025, 9:30-10
 :30 Uhr</p>
CONTACT:01/891 74 115 000
X-EXTRAINFO:[preis='5700'][anmeldung='true']
DTSTAMP:20260425T153443
DTSTART:20251008T073000
DTEND:20251008T083000
SEQUENCE:0
TRANSP:OPAQUE
END:VEVENT
END:VCALENDAR