BEGIN:VCALENDAR
VERSION:2.0
PRODID:-//jEvents 2.0 for Joomla//EN
CALSCALE:GREGORIAN
METHOD:PUBLISH
BEGIN:VEVENT
UID:101f72a7c51b0950d0cb58d1fe7bb1a3
CATEGORIES:15. Bezirk
CREATED:20250819T095013
SUMMARY:Bewegungswerkstatt für Kinder (ab dem Laufalter bis 2,5 Jahre)
LOCATION:VHS Rudolfsheim-Fünfhaus
DESCRIPTION:Das altersgemäße Angebot lässt die Turnstunde zu einer interessanten Bewegu
 ngs- und Erlebniswelt werden. Kinderturnen stimuliert die Nah- und Basissin
 ne, die Motorik, Tiefenwahrnehmung und das Körpergefühl. Die Begleitperson 
 ist ein*e willkommene*r aktive*r Teilnehmer*in, der*die Unterstützung anbie
 tet. Dadurch wird die zwischenmenschliche Beziehung unterstützt.\nBitte mit
  bequemer Bekleidung und rutschfesten Socken/Patschen kommen und eine Trink
 flasche mitnehmen.\nMo 7x, 22.9.-3.11.2025, 10:30-11:30 Uhr\n
X-ALT-DESC;FMTTYPE=text/html:<p>Das altersgemäße Angebot lässt die Turnstunde zu einer interessanten Bew
 egungs- und Erlebniswelt werden. Kinderturnen stimuliert die Nah- und Basis
 sinne, die Motorik, Tiefenwahrnehmung und das Körpergefühl. Die Begleitpers
 on ist ein*e willkommene*r aktive*r Teilnehmer*in, der*die Unterstützung an
 bietet. Dadurch wird die zwischenmenschliche Beziehung unterstützt.</p><p>B
 itte mit bequemer Bekleidung und rutschfesten Socken/Patschen kommen und ei
 ne Trinkflasche mitnehmen.</p><p>Mo 7x, 22.9.-3.11.2025, 10:30-11:30 Uhr</p
 >
CONTACT:01/891 74 115 000
X-EXTRAINFO:[preis='5700'][anmeldung='true']
DTSTAMP:20260425T121424
DTSTART:20251006T083000
DTEND:20251006T093000
SEQUENCE:0
TRANSP:OPAQUE
END:VEVENT
END:VCALENDAR